BEGIN_USGS_DOQ_HEADER *
QUADRANGLE_NAME "PETROLIA" 3.45 or 7.5-min. name*
QUADRANT NW quadrant indicator if cell size = 3.75-minutes*
WEST_LONGITUDE -124 22 30.000 signed deg min sec SDDD MM SS.SSS*
EAST_LONGITUDE -124 18 45.000 signed deg min sec SDDD MM SS.SSS*
NORTH_LATITUDE 40 22 30.000 signed deg min sec SDDD MM SS.SSS*
SOUTH_LATITUDE 40 18 45.000 signed deg min sec SDDD MM SS.SSS*
PRODUCTION_DATE 1996 5 6 yyyy mm dd*
RASTER_ORDER LEFT_RIGHT/TOP_BOTTOM video display order*
BAND_ORGANIZATION "SINGLE FILE" single file or BSQ, or BIL or BIP*
BAND_CONTENT BLACK&WHITE black&white or red green blue*
BITS_PER_PIXEL 8 radiometric resolution*
SAMPLES_AND_LINES 6123 7642 number of columns and rows*
HORIZONTAL_DATUM NAD83 primary horizontal datum*
HORIZONTAL_COORDINATE_SYSTEM UTM *
COORDINATE_ZONE 10 coordinate system zone number*
HORIZONTAL_UNITS METERS coordinate system units*
HORIZONTAL_RESOLUTION 1.00 pixel horiz. ground sample distance*
SECONDARY_HORIZONTAL_DATUM NAD27 secondary horizontal datum*
XY_ORIGIN 382761.500 4470591.500 coord. of upper left pixel pri. datum*
SECONDARY_XY_ORIGIN 382857.465 4470395.246 coord upper left pixel sec datum*
NATION US nation code*
STATE CA state fip code*
NW_QUAD_CORNER_XY 383273.150 4470287.302 XY coords. of pri. NW quad corner*
NE_QUAD_CORNER_XY 388579.071 4470206.678 XY coords. of pri. NE quad corner*
SE_QUAD_CORNER_XY 388476.171 4463269.077 XY coords. of pri. SE quad corner*
SW_QUAD_CORNER_XY 383165.348 4463349.673 XY coords. of pri. SW quad corner*
SECONDARY_NW_QUAD_XY 383270.056 4470076.565 XY coords. - sec. NW quad cor.*
SECONDARY_NE_QUAD_XY 388576.117 4469995.938 XY coords. - sec. NE quad cor.*
SECONDARY_SE_QUAD_XY 388473.218 4463058.456 XY coords. - sec. SE quad cor.*
SECONDARY_SW_QUAD_XY 383162.255 4463139.054 XY coords. - sec. SW quad cor.*
RMSE_XY 1.50 doq horiz. accuracy*
IMAGE_SOURCE "BLACK AND WHITE FILM" b&w, cir, natural color, other*
SOURCE_IMAGE_ID "NAPP 6250 013" source image id*
SOURCE_IMAGE_DATE 1993 6 24 source image date as yyyy mm dd*
IMAGE_SOURCE "BLACK AND WHITE FILM" b&w, cir, natural color, other*
SOURCE_IMAGE_ID "NAPP 6250 012" source image id*
SOURCE_IMAGE_DATE 1993 6 24 source image date as yyyy mm dd*
IMAGE_SOURCE "BLACK AND WHITE FILM" b&w, cir, natural color, other*
SOURCE_IMAGE_ID "NAPP 6250 014" source image id*
SOURCE_IMAGE_DATE 1993 6 24 source image date as yyyy mm dd*
SOURCE_DEM_DATE 1996 5 6 source dem date yyyy mm dd*
AGENCY "WESTERN MAPPING CENTER (WMC)" oversight agency*
PRODUCER "Woolpert Consultants" producer/contractor*
PRODUCTION_SYSTEM "INTERGRAPH ISPM,ISIR" production system*
STANDARD_VERSION 1996 12 version of DOQ standard*
METADATA_DATE 1997 7 19 date created or changed, yyyy mm dd*
DATA_FILE_SIZE 46798089 data set size in bytes*
BYTE_COUNT 6123 header byte count* * * * * * * * * * * * * * * * * * * * * * * * * * * *
END_USGS_HEADER *
