BEGIN_USGS_DOQ_HEADER *
QUADRANGLE_NAME "FERNDALE" 3.45 or 7.5-min. name*
QUADRANT NE quadrant indicator if cell size = 3.75-minutes*
WEST_LONGITUDE -124 18 45.000 signed deg min sec SDDD MM SS.SSS*
EAST_LONGITUDE -124 15 0.000 signed deg min sec SDDD MM SS.SSS*
NORTH_LATITUDE 40 37 30.000 signed deg min sec SDDD MM SS.SSS*
SOUTH_LATITUDE 40 33 45.000 signed deg min sec SDDD MM SS.SSS*
PRODUCTION_DATE 2000 9 20 yyyy mm dd*
RASTER_ORDER LEFT_RIGHT/TOP_BOTTOM video display order*
BAND_ORGANIZATION "SINGLE FILE" single file or BSQ, or BIL or BIP*
BAND_CONTENT BLACK&WHITE single file or BSQ, or BIL or BIP*
BITS_PER_PIXEL 8 radiometric resolution*
SAMPLES_AND_LINES 6049 7591 number of columns and rows*
HORIZONTAL_DATUM NAD83 primary horizontal datum*
HORIZONTAL_COORDINATE_SYSTEM UTM horizontal datum name*
COORDINATE_ZONE 10 coordinate system zone number*
HORIZONTAL_UNITS METERS coordinate system units*
HORIZONTAL_RESOLUTION 1.00 pixel horiz. ground sample distance*
SECONDARY_HORIZONTAL_DATUM NAD27 secondary horizontal datum*
XY_ORIGIN 388509.000 4498238.000 coord. of upper left pixel pri. datum*
SECONDARY_XY_ORIGIN 388605.260 4498041.952 coord upper left pixel sec datum*
NATION US nation code*
STATE CA state fip code*
NW_QUAD_CORNER_XY 388992.002 4497957.792 XY coords. of pri. NW quad corner*
NE_QUAD_CORNER_XY 394278.230 4497880.811 XY coords. of pri. NE quad corner*
SE_QUAD_CORNER_XY 394179.725 4490942.952 XY coords. of pri. SE quad corner*
SW_QUAD_CORNER_XY 388888.570 4491019.906 XY coords. of pri. SW quad corner*
SECONDARY_NW_QUAD_XY 388989.041 4497746.587 XY coords. - sec. NW quad cor.*
SECONDARY_NE_QUAD_XY 394275.410 4497669.604 XY coords. - sec. NE quad cor.*
SECONDARY_SE_QUAD_XY 394176.907 4490731.860 XY coords. - sec. SE quad cor.*
SECONDARY_SW_QUAD_XY 388885.611 4490808.816 XY coords. - sec. SW quad cor.*
RMSE_XY 0.10 doq horiz. accuracy*
IMAGE_SOURCE "BLACK AND WHITE FILM" b&w, cir, natural color, other*
SOURCE_IMAGE_ID "NAPP 10488 034" source image id*
SOURCE_IMAGE_DATE 1998 8 27 source image date as yyyy mm dd*
SOURCE_IMAGE_ID "NAPP 10488 032" source image id*
SOURCE_IMAGE_DATE 1998 8 27 source image date as yyyy mm dd*
SOURCE_DEM_DATE 1972 01 01 source dem date yyyy mm dd*
AGENCY "WESTERN MAPPING CENTER (WMC)" oversight agency*
PRODUCER "EARTHDATA INTERNATIONAL" producer/contractor*
PRODUCTION_SYSTEM "SGI AUTOMETRIC" production system*
STANDARD_VERSION 1996 12 version of DOQ standard*
METADATA_DATE 2000 9 20 date created or changed, yyyy mm dd*
DATA_FILE_SIZE 45924008 data set size in bytes*
BYTE_COUNT 6049 header byte count* * * * * * * * * * * * * * * * * * * * * * * * * * * * * * *
END_USGS_HEADER *
