BEGIN_USGS_DOQ_HEADER *
QUADRANGLE_NAME "WALL CANYON RESERVOIR" 3.45 or 7.5-min. name*
QUADRANT NW quadrant indicator if cell size = 3.75-minutes*
WEST_LONGITUDE -119 52 30.000 signed deg min sec SDDD MM SS.SSS*
EAST_LONGITUDE -119 48 45.000 signed deg min sec SDDD MM SS.SSS*
NORTH_LATITUDE 41 15 0.000 signed deg min sec SDDD MM SS.SSS*
SOUTH_LATITUDE 41 11 15.000 signed deg min sec SDDD MM SS.SSS*
PRODUCTION_DATE 1998 5 11 yyyy mm dd*
RASTER_ORDER LEFT_RIGHT/TOP_BOTTOM video display order*
BAND_ORGANIZATION "SINGLE FILE" single file or BSQ, or BIL or BIP*
BAND_CONTENT BLACK&WHITE black&white or red green blue*
BITS_PER_PIXEL 8 radiometric resolution*
SAMPLES_AND_LINES 6157 7722 number of columns and rows*
HORIZONTAL_DATUM NAD83 primary horizontal datum*
HORIZONTAL_COORDINATE_SYSTEM UTM *
COORDINATE_ZONE 11 coordinate system zone number*
HORIZONTAL_UNITS METERS coordinate system units*
HORIZONTAL_RESOLUTION 1.00 pixel horiz. ground sample distance*
SECONDARY_HORIZONTAL_DATUM NAD27 secondary horizontal datum*
XY_ORIGIN 258492.000 4570797.000 coord. of upper left pixel pri. datum*
SECONDARY_XY_ORIGIN 258573.242 4570593.373 coord upper left pixel sec datum*
NATION US nation code*
STATE NV state fip code*
NW_QUAD_CORNER_XY 259110.635 4570496.720 XY coords. of pri. NW quad corner*
NE_QUAD_CORNER_XY 264347.922 4570325.187 XY coords. of pri. NE quad corner*
SE_QUAD_CORNER_XY 264123.280 4563385.716 XY coords. of pri. SE quad corner*
SW_QUAD_CORNER_XY 258880.991 4563557.199 XY coords. of pri. SW quad corner*
SECONDARY_NW_QUAD_XY 259104.111 4570284.496 XY coords. - sec. NW quad cor.*
SECONDARY_NE_QUAD_XY 264341.540 4570112.958 XY coords. - sec. NE quad cor.*
SECONDARY_SE_QUAD_XY 264116.901 4563173.594 XY coords. - sec. SE quad cor.*
SECONDARY_SW_QUAD_XY 258874.471 4563345.082 XY coords. - sec. SW quad cor.*
RMSE_XY 1.70 doq horiz. accuracy*
IMAGE_SOURCE "BLACK AND WHITE FILM" b&w, cir, natural color, other*
SOURCE_IMAGE_ID "NAPP 7377 218" source image id*
SOURCE_IMAGE_DATE 1994 06 18 source image date as yyyy mm dd*
SOURCE_DEM_DATE 1997 01 01 source dem date yyyy mm dd*
AGENCY "WESTERN MAPPING CENTER (WMC)" oversight agency*
PRODUCER "SCIENCE APPLICATIONS INTERNATIONAL" producer/contractor*
PRODUCTION_SYSTEM "GIS/MAGIC" production system*
STANDARD_VERSION 1996 12 version of DOQ standard*
METADATA_DATE 1998 05 11 date created or changed, yyyy mm dd*
DATA_FILE_SIZE 47550511 data set size in bytes*
BYTE_COUNT 6157 header byte count* * * * * * * * * * * * * * * * * * * * * * * * * * * * * * * * * *
END_USGS_HEADER *
