BEGIN_USGS_DOQ_HEADER *
QUADRANGLE_NAME "BIG HAT MOUNTAIN" 3.45 or 7.5-min. name*
QUADRANT NE quadrant indicator if cell size = 3.75-minutes*
WEST_LONGITUDE -119 56 15.000 signed deg min sec SDDD MM SS.SSS*
EAST_LONGITUDE -119 52 30.000 signed deg min sec SDDD MM SS.SSS*
NORTH_LATITUDE 41 30 0.000 signed deg min sec SDDD MM SS.SSS*
SOUTH_LATITUDE 41 26 15.000 signed deg min sec SDDD MM SS.SSS*
PRODUCTION_DATE 1998 5 11 yyyy mm dd*
RASTER_ORDER LEFT_RIGHT/TOP_BOTTOM video display order*
BAND_ORGANIZATION "SINGLE FILE" single file or BSQ, or BIL or BIP*
BAND_CONTENT BLACK&WHITE black&white or red green blue*
BITS_PER_PIXEL 8 radiometric resolution*
SAMPLES_AND_LINES 6144 7727 number of columns and rows*
HORIZONTAL_DATUM NAD83 primary horizontal datum*
HORIZONTAL_COORDINATE_SYSTEM UTM *
COORDINATE_ZONE 11 coordinate system zone number*
HORIZONTAL_UNITS METERS coordinate system units*
HORIZONTAL_RESOLUTION 1.00 pixel horiz. ground sample distance*
SECONDARY_HORIZONTAL_DATUM NAD27 secondary horizontal datum*
XY_ORIGIN 254190.000 4598731.000 coord. of upper left pixel pri. datum*
SECONDARY_XY_ORIGIN 254271.161 4598527.049 coord upper left pixel sec datum*
NATION US nation code*
STATE NV state fip code*
NW_QUAD_CORNER_XY 254814.833 4598430.875 XY coords. of pri. NW quad corner*
NE_QUAD_CORNER_XY 260032.085 4598255.369 XY coords. of pri. NE quad corner*
SE_QUAD_CORNER_XY 259801.292 4591315.622 XY coords. of pri. SE quad corner*
SW_QUAD_CORNER_XY 254579.013 4591491.080 XY coords. of pri. SW quad corner*
SECONDARY_NW_QUAD_XY 254808.153 4598218.238 XY coords. - sec. NW quad cor.*
SECONDARY_NE_QUAD_XY 260025.547 4598042.727 XY coords. - sec. NE quad cor.*
SECONDARY_SE_QUAD_XY 259794.757 4591103.083 XY coords. - sec. SE quad cor.*
SECONDARY_SW_QUAD_XY 254572.336 4591278.546 XY coords. - sec. SW quad cor.*
RMSE_XY 4.40 doq horiz. accuracy*
IMAGE_SOURCE "BLACK AND WHITE FILM" b&w, cir, natural color, other*
SOURCE_IMAGE_ID "NAPP 6202 064" source image id*
SOURCE_IMAGE_DATE 1993 07 08 source image date as yyyy mm dd*
IMAGE_SOURCE "BLACK AND WHITE FILM" b&w, cir, natural color, other*
SOURCE_IMAGE_ID "NAPP 6202 099" source image id*
SOURCE_IMAGE_DATE 1993 07 08 source image date as yyyy mm dd*
IMAGE_SOURCE "BLACK AND WHITE FILM" b&w, cir, natural color, other*
SOURCE_IMAGE_ID "NAPP 6202 065" source image id*
SOURCE_IMAGE_DATE 1993 07 08 source image date as yyyy mm dd*
IMAGE_SOURCE "BLACK AND WHITE FILM" b&w, cir, natural color, other*
SOURCE_IMAGE_ID "NAPP 7377 210" source image id*
SOURCE_IMAGE_DATE 1994 06 18 source image date as yyyy mm dd*
SOURCE_DEM_DATE 1997 01 01 source dem date yyyy mm dd*
AGENCY "WESTERN MAPPING CENTER (WMC)" oversight agency*
PRODUCER "SCIENCE APPLICATIONS INTERNATIONAL" producer/contractor*
PRODUCTION_SYSTEM "GIS/MAGIC" production system*
STANDARD_VERSION 1996 12 version of DOQ standard*
METADATA_DATE 1998 05 11 date created or changed, yyyy mm dd*
DATA_FILE_SIZE 47480832 data set size in bytes*
BYTE_COUNT 6144 header byte count* * * * * * * * * * * * * * * * * * * * * * * * *
END_USGS_HEADER *
