BEGIN_USGS_DOQ_HEADER *
QUADRANGLE_NAME "BIG HAT MOUNTAIN" 3.45 or 7.5-min. name*
QUADRANT SW quadrant indicator if cell size = 3.75-minutes*
WEST_LONGITUDE -120 0 0.000 signed deg min sec SDDD MM SS.SSS*
EAST_LONGITUDE -119 56 15.000 signed deg min sec SDDD MM SS.SSS*
NORTH_LATITUDE 41 26 15.000 signed deg min sec SDDD MM SS.SSS*
SOUTH_LATITUDE 41 22 30.000 signed deg min sec SDDD MM SS.SSS*
PRODUCTION_DATE 1998 5 11 yyyy mm dd*
RASTER_ORDER LEFT_RIGHT/TOP_BOTTOM video display order*
BAND_ORGANIZATION "SINGLE FILE" single file or BSQ, or BIL or BIP*
BAND_CONTENT BLACK&WHITE black&white or red green blue*
BITS_PER_PIXEL 8 radiometric resolution*
SAMPLES_AND_LINES 6155 7731 number of columns and rows*
HORIZONTAL_DATUM NAD83 primary horizontal datum*
HORIZONTAL_COORDINATE_SYSTEM UTM *
COORDINATE_ZONE 11 coordinate system zone number*
HORIZONTAL_UNITS METERS coordinate system units*
HORIZONTAL_RESOLUTION 1.00 pixel horiz. ground sample distance*
SECONDARY_HORIZONTAL_DATUM NAD27 secondary horizontal datum*
XY_ORIGIN 248726.000 4591971.000 coord. of upper left pixel pri. datum*
SECONDARY_XY_ORIGIN 248807.284 4591767.042 coord upper left pixel sec datum*
NATION US nation code*
STATE NV state fip code*
STATE CA state fip code*
NW_QUAD_CORNER_XY 249356.697 4591670.319 XY coords. of pri. NW quad corner*
NE_QUAD_CORNER_XY 254579.013 4591491.080 XY coords. of pri. NE quad corner*
SE_QUAD_CORNER_XY 254343.485 4584551.341 XY coords. of pri. SE quad corner*
SW_QUAD_CORNER_XY 249116.148 4584730.531 XY coords. of pri. SW quad corner*
SECONDARY_NW_QUAD_XY 249349.878 4591457.791 XY coords. - sec. NW quad cor.*
SECONDARY_NE_QUAD_XY 254572.336 4591278.546 XY coords. - sec. NE quad cor.*
SECONDARY_SE_QUAD_XY 254336.812 4584338.911 XY coords. - sec. SE quad cor.*
SECONDARY_SW_QUAD_XY 249109.332 4584518.106 XY coords. - sec. SW quad cor.*
RMSE_XY 1.50 doq horiz. accuracy*
IMAGE_SOURCE "BLACK AND WHITE FILM" b&w, cir, natural color, other*
SOURCE_IMAGE_ID "NAPP 6202 101" source image id*
SOURCE_IMAGE_DATE 1993 07 08 source image date as yyyy mm dd*
IMAGE_SOURCE "BLACK AND WHITE FILM" b&w, cir, natural color, other*
SOURCE_IMAGE_ID "NAPP 6202 103" source image id*
SOURCE_IMAGE_DATE 1993 07 08 source image date as yyyy mm dd*
SOURCE_DEM_DATE 1997 01 01 source dem date yyyy mm dd*
AGENCY "WESTERN MAPPING CENTER (WMC)" oversight agency*
PRODUCER "SCIENCE APPLICATIONS INTERNATIONAL" producer/contractor*
PRODUCTION_SYSTEM "GIS/MAGIC" production system*
STANDARD_VERSION 1996 12 version of DOQ standard*
METADATA_DATE 1998 05 11 date created or changed, yyyy mm dd*
DATA_FILE_SIZE 47590460 data set size in bytes*
BYTE_COUNT 6155 header byte count* * * * * * * * * * * * * * * * * * * * * * * * * * * * * *
END_USGS_HEADER *
