BEGIN_USGS_DOQ_HEADER *
QUADRANGLE_NAME "FORTYNINE MOUNTAIN" *
QUADRANT NE *
WEST_LONGITUDE -119 56 15.000 *
EAST_LONGITUDE -119 52 30.000 *
NORTH_LATITUDE 41 37 30.000 *
SOUTH_LATITUDE 41 33 45.000 *
PRODUCTION_DATE 1999 11 25 *
RASTER_ORDER LEFT_RIGHT/TOP_BOTTOM *
BAND_ORGANIZATION "SINGLE FILE" *
BAND_CONTENT BLACK&WHITE *
BITS_PER_PIXEL 8 *
SAMPLES_AND_LINES 6130 7723 *
HORIZONTAL_DATUM NAD83 *
HORIZONTAL_COORDINATE_SYSTEM UTM *
COORDINATE_ZONE 11 *
HORIZONTAL_UNITS METERS *
HORIZONTAL_RESOLUTION 1.000000 *
SECONDARY_HORIZONTAL_DATUM NAD27 *
XY_ORIGIN 254664.500 4612609.500 *
SECONDARY_XY_ORIGIN 254745.732 4612405.439 *
NATION US *
STATE NV *
NW_QUAD_CORNER_XY 255287.353 4612310.633 *
NE_QUAD_CORNER_XY 260494.530 4612135.034 *
SE_QUAD_CORNER_XY 260263.164 4605195.173 *
SW_QUAD_CORNER_XY 255050.947 4605370.726 *
SECONDARY_NW_QUAD_XY 255280.666 4612097.792 *
SECONDARY_NE_QUAD_XY 260487.985 4611922.189 *
SECONDARY_SE_QUAD_XY 260256.623 4604982.430 *
SECONDARY_SW_QUAD_XY 255044.263 4605157.987 *
RMSE_XY 3.12 *
IMAGE_SOURCE "BLACK & WHITE FILM" *
SOURCE_IMAGE_ID "NAPP 6202 68" *
SOURCE_IMAGE_DATE 1993 07 08 *
SOURCE_DEM_DATE 1980 00 00 *
AGENCY "WESTERN MAPPING CENTER (WMC)" *
PRODUCER "NIES MAPPING GROUP, INC." *
PRODUCTION_SYSTEM "INTERGRAPH MODEL_SETUP, BASE_RECTIFIER" *
STANDARD_VERSION 1996 12 *
METADATA_DATE 1999 11 25 *
DATA_FILE_SIZE 47348120 *
BYTE_COUNT 6130 * * * * * * * * * * * * * * * * * * * * * * * * * * * * * * * * * *
END_USGS_HEADER *
