BEGIN_USGS_DOQ_HEADER *
QUADRANGLE_NAME "FORTYNINE MOUNTAIN" *
QUADRANT SE *
WEST_LONGITUDE -119 56 15.000 *
EAST_LONGITUDE -119 52 30.000 *
NORTH_LATITUDE 41 33 45.000 *
SOUTH_LATITUDE 41 30 0.000 *
PRODUCTION_DATE 1999 11 25 *
RASTER_ORDER LEFT_RIGHT/TOP_BOTTOM *
BAND_ORGANIZATION "SINGLE FILE" *
BAND_CONTENT BLACK&WHITE *
BITS_PER_PIXEL 8 *
SAMPLES_AND_LINES 6135 7723 *
HORIZONTAL_DATUM NAD83 *
HORIZONTAL_COORDINATE_SYSTEM UTM *
COORDINATE_ZONE 11 *
HORIZONTAL_UNITS METERS *
HORIZONTAL_RESOLUTION 1.000000 *
SECONDARY_HORIZONTAL_DATUM NAD27 *
XY_ORIGIN 254428.500 4605669.500 *
SECONDARY_XY_ORIGIN 254509.694 4605465.494 *
NATION US *
STATE NV *
NW_QUAD_CORNER_XY 255050.947 4605370.726 *
NE_QUAD_CORNER_XY 260263.164 4605195.173 *
SE_QUAD_CORNER_XY 260032.085 4598255.370 *
SW_QUAD_CORNER_XY 254814.833 4598430.875 *
SECONDARY_NW_QUAD_XY 255044.263 4605157.987 *
SECONDARY_NE_QUAD_XY 260256.623 4604982.430 *
SECONDARY_SE_QUAD_XY 260025.547 4598042.728 *
SECONDARY_SW_QUAD_XY 254808.153 4598218.239 *
RMSE_XY 4.92 *
IMAGE_SOURCE "BLACK & WHITE FILM" *
SOURCE_IMAGE_ID "NAPP 6202 66" *
SOURCE_IMAGE_DATE 1993 07 08 *
IMAGE_SOURCE "BLACK & WHITE FILM" *
SOURCE_IMAGE_ID "NAPP 6202 68" *
SOURCE_IMAGE_DATE 1993 07 08 *
SOURCE_DEM_DATE 1980 00 00 *
AGENCY "WESTERN MAPPING CENTER (WMC)" *
PRODUCER "NIES MAPPING GROUP, INC." *
PRODUCTION_SYSTEM "INTERGRAPH MODEL_SETUP, BASE_RECTIFIER" *
STANDARD_VERSION 1996 12 *
METADATA_DATE 1999 11 25 *
DATA_FILE_SIZE 47386740 *
BYTE_COUNT 6135 * * * * * * * * * * * * * * * * * * * * * * * * * * * * * * *
END_USGS_HEADER *
