BEGIN_USGS_DOQ_HEADER *
QUADRANGLE_NAME "ALKALI LAKE" *
QUADRANT NW *
WEST_LONGITUDE -119 52 30.000 *
EAST_LONGITUDE -119 48 45.000 *
NORTH_LATITUDE 41 45 0.000 *
SOUTH_LATITUDE 41 41 15.000 *
PRODUCTION_DATE 1999 10 25 *
RASTER_ORDER LEFT_RIGHT/TOP_BOTTOM *
BAND_ORGANIZATION "SINGLE FILE" *
BAND_CONTENT BLACK&WHITE *
BITS_PER_PIXEL 8 *
SAMPLES_AND_LINES 6116 7719 *
HORIZONTAL_DATUM NAD83 *
HORIZONTAL_COORDINATE_SYSTEM UTM *
COORDINATE_ZONE 11 *
HORIZONTAL_UNITS METERS *
HORIZONTAL_RESOLUTION 1.000000 *
SECONDARY_HORIZONTAL_DATUM NAD27 *
XY_ORIGIN 260339.500 4626313.500 *
SECONDARY_XY_ORIGIN 260420.780 4626109.368 *
NATION US *
STATE NV *
NW_QUAD_CORNER_XY 260958.120 4626014.925 *
NE_QUAD_CORNER_XY 266155.166 4625843.023 *
SE_QUAD_CORNER_XY 265928.280 4618903.092 *
SW_QUAD_CORNER_XY 260726.182 4619074.951 *
SECONDARY_NW_QUAD_XY 260951.569 4625801.880 *
SECONDARY_NE_QUAD_XY 266148.757 4625629.973 *
SECONDARY_SE_QUAD_XY 265921.875 4618690.142 *
SECONDARY_SW_QUAD_XY 260719.634 4618862.005 *
RMSE_XY 0.81 *
IMAGE_SOURCE "BLACK & WHITE FILM" *
SOURCE_IMAGE_ID "NAPP 7377 202" *
SOURCE_IMAGE_DATE 1994 06 18 *
SOURCE_DEM_DATE 1980 00 00 *
AGENCY "WESTERN MAPPING CENTER (WMC)" *
PRODUCER "NIES MAPPING GROUP, INC." *
PRODUCTION_SYSTEM "INTERGRAPH MODEL_SETUP, BASE_RECTIFIER" *
STANDARD_VERSION 1996 12 *
METADATA_DATE 1999 10 25 *
DATA_FILE_SIZE 47215520 *
BYTE_COUNT 6116 * * * * * * * * * * * * * * * * * * * * * * * * * * * * * * * * * *
END_USGS_HEADER *
