BEGIN_USGS_DOQ_HEADER *
QUADRANGLE_NAME "ALKALI LAKE" *
QUADRANT SE *
WEST_LONGITUDE -119 48 45.000 *
EAST_LONGITUDE -119 45 0.000 *
NORTH_LATITUDE 41 41 15.000 *
SOUTH_LATITUDE 41 37 30.000 *
PRODUCTION_DATE 1999 10 25 *
RASTER_ORDER LEFT_RIGHT/TOP_BOTTOM *
BAND_ORGANIZATION "SINGLE FILE" *
BAND_CONTENT BLACK&WHITE *
BITS_PER_PIXEL 8 *
SAMPLES_AND_LINES 6115 7716 *
HORIZONTAL_DATUM NAD83 *
HORIZONTAL_COORDINATE_SYSTEM UTM *
COORDINATE_ZONE 11 *
HORIZONTAL_UNITS METERS *
HORIZONTAL_RESOLUTION 1.000000 *
SECONDARY_HORIZONTAL_DATUM NAD27 *
XY_ORIGIN 265315.500 4619202.500 *
SECONDARY_XY_ORIGIN 265396.714 4618998.470 *
NATION US *
STATE NV *
NW_QUAD_CORNER_XY 265928.280 4618903.092 *
NE_QUAD_CORNER_XY 271130.346 4618735.018 *
SE_QUAD_CORNER_XY 270908.785 4611795.188 *
SW_QUAD_CORNER_XY 265701.674 4611963.219 *
SECONDARY_NW_QUAD_XY 265921.875 4618690.142 *
SECONDARY_NE_QUAD_XY 271124.083 4618522.062 *
SECONDARY_SE_QUAD_XY 270902.524 4611582.333 *
SECONDARY_SW_QUAD_XY 265695.271 4611750.369 *
RMSE_XY 1.29 *
IMAGE_SOURCE "BLACK & WHITE FILM" *
SOURCE_IMAGE_ID "NAPP 7377 181" *
SOURCE_IMAGE_DATE 1994 06 18 *
SOURCE_DEM_DATE 1980 00 00 *
AGENCY "WESTERN MAPPING CENTER (WMC)" *
PRODUCER "NIES MAPPING GROUP, INC." *
PRODUCTION_SYSTEM "INTERGRAPH MODEL_SETUP, BASE_RECTIFIER" *
STANDARD_VERSION 1996 12 *
METADATA_DATE 1999 10 25 *
DATA_FILE_SIZE 47189455 *
BYTE_COUNT 6115 * * * * * * * * * * * * * * * * * * * * * * * * * * * * * * * * * *
END_USGS_HEADER *
