BEGIN_USGS_DOQ_HEADER *
QUADRANGLE_NAME "ALKALI LAKE" *
QUADRANT SW *
WEST_LONGITUDE -119 52 30.000 *
EAST_LONGITUDE -119 48 45.000 *
NORTH_LATITUDE 41 41 15.000 *
SOUTH_LATITUDE 41 37 30.000 *
PRODUCTION_DATE 1999 10 25 *
RASTER_ORDER LEFT_RIGHT/TOP_BOTTOM *
BAND_ORGANIZATION "SINGLE FILE" *
BAND_CONTENT BLACK&WHITE *
BITS_PER_PIXEL 8 *
SAMPLES_AND_LINES 6121 7719 *
HORIZONTAL_DATUM NAD83 *
HORIZONTAL_COORDINATE_SYSTEM UTM *
COORDINATE_ZONE 11 *
HORIZONTAL_UNITS METERS *
HORIZONTAL_RESOLUTION 1.000000 *
SECONDARY_HORIZONTAL_DATUM NAD27 *
XY_ORIGIN 260107.500 4619373.500 *
SECONDARY_XY_ORIGIN 260188.741 4619169.427 *
NATION US *
STATE NV *
NW_QUAD_CORNER_XY 260726.182 4619074.951 *
NE_QUAD_CORNER_XY 265928.280 4618903.092 *
SE_QUAD_CORNER_XY 265701.674 4611963.219 *
SW_QUAD_CORNER_XY 260494.530 4612135.034 *
SECONDARY_NW_QUAD_XY 260719.634 4618862.005 *
SECONDARY_NE_QUAD_XY 265921.875 4618690.142 *
SECONDARY_SE_QUAD_XY 265695.271 4611750.369 *
SECONDARY_SW_QUAD_XY 260487.985 4611922.189 *
RMSE_XY 1.00 *
IMAGE_SOURCE "BLACK & WHITE FILM" *
SOURCE_IMAGE_ID "NAPP 7377 204" *
SOURCE_IMAGE_DATE 1994 06 18 *
SOURCE_DEM_DATE 1980 00 00 *
AGENCY "WESTERN MAPPING CENTER (WMC)" *
PRODUCER "NIES MAPPING GROUP, INC." *
PRODUCTION_SYSTEM "INTERGRAPH MODEL_SETUP, BASE_RECTIFIER" *
STANDARD_VERSION 1996 12 *
METADATA_DATE 1999 10 25 *
DATA_FILE_SIZE 47254120 *
BYTE_COUNT 6121 * * * * * * * * * * * * * * * * * * * * * * * * * * * * * * * * * *
END_USGS_HEADER *
