BEGIN_USGS_DOQ_HEADER *
QUADRANGLE_NAME "CARTER RESERVOIR" *
QUADRANT NE *
WEST_LONGITUDE -119 56 15.000 *
EAST_LONGITUDE -119 52 30.000 *
NORTH_LATITUDE 41 45 0.000 *
SOUTH_LATITUDE 41 41 15.000 *
PRODUCTION_DATE 1999 11 25 *
RASTER_ORDER LEFT_RIGHT/TOP_BOTTOM *
BAND_ORGANIZATION "SINGLE FILE" *
BAND_CONTENT BLACK&WHITE *
BITS_PER_PIXEL 8 *
SAMPLES_AND_LINES 6121 7723 *
HORIZONTAL_DATUM NAD83 *
HORIZONTAL_COORDINATE_SYSTEM UTM *
COORDINATE_ZONE 11 *
HORIZONTAL_UNITS METERS *
HORIZONTAL_RESOLUTION 1.000000 *
SECONDARY_HORIZONTAL_DATUM NAD27 *
XY_ORIGIN 255137.500 4626489.500 *
SECONDARY_XY_ORIGIN 255218.804 4626285.331 *
NATION US *
STATE NV *
NW_QUAD_CORNER_XY 255761.041 4626190.613 *
NE_QUAD_CORNER_XY 260958.120 4626014.925 *
SE_QUAD_CORNER_XY 260726.182 4619074.951 *
SW_QUAD_CORNER_XY 255524.051 4619250.595 *
SECONDARY_NW_QUAD_XY 255754.347 4625977.572 *
SECONDARY_NE_QUAD_XY 260951.569 4625801.880 *
SECONDARY_SE_QUAD_XY 260719.634 4618862.005 *
SECONDARY_SW_QUAD_XY 255517.360 4619037.654 *
RMSE_XY 6.76 *
IMAGE_SOURCE "BLACK & WHITE FILM" *
SOURCE_IMAGE_ID "NAPP 6202 72" *
SOURCE_IMAGE_DATE 1993 07 08 *
SOURCE_DEM_DATE 1978 08 01 *
AGENCY "WESTERN MAPPING CENTER (WMC)" *
PRODUCER "NIES MAPPING GROUP, INC." *
PRODUCTION_SYSTEM "INTERGRAPH MODEL_SETUP, BASE_RECTIFIER" *
STANDARD_VERSION 1996 12 *
METADATA_DATE 1999 11 25 *
DATA_FILE_SIZE 47278604 *
BYTE_COUNT 6121 * * * * * * * * * * * * * * * * * * * * * * * * * * * * * * * * * *
END_USGS_HEADER *
