BEGIN_USGS_DOQ_HEADER *
QUADRANGLE_NAME "CROOKS MEADOW" *
QUADRANT NE *
WEST_LONGITUDE -119 56 15.000 *
EAST_LONGITUDE -119 52 30.000 *
NORTH_LATITUDE 41 52 30.000 *
SOUTH_LATITUDE 41 48 45.000 *
PRODUCTION_DATE 1999 10 27 *
RASTER_ORDER LEFT_RIGHT/TOP_BOTTOM *
BAND_ORGANIZATION "SINGLE FILE" *
BAND_CONTENT BLACK&WHITE *
BITS_PER_PIXEL 8 *
SAMPLES_AND_LINES 6111 7724 *
HORIZONTAL_DATUM NAD83 *
HORIZONTAL_COORDINATE_SYSTEM UTM *
COORDINATE_ZONE 11 *
HORIZONTAL_UNITS METERS *
HORIZONTAL_RESOLUTION 1.000000 *
SECONDARY_HORIZONTAL_DATUM NAD27 *
XY_ORIGIN 255611.500 4640369.500 *
SECONDARY_XY_ORIGIN 255692.775 4640165.287 *
NATION US *
STATE NV *
NW_QUAD_CORNER_XY 256235.897 4640070.818 *
NE_QUAD_CORNER_XY 261422.852 4639895.044 *
SE_QUAD_CORNER_XY 261190.343 4632954.956 *
SW_QUAD_CORNER_XY 255998.323 4633130.687 *
SECONDARY_NW_QUAD_XY 256229.196 4639857.579 *
SECONDARY_NE_QUAD_XY 261416.294 4639681.801 *
SECONDARY_SE_QUAD_XY 261183.789 4632741.811 *
SECONDARY_SW_QUAD_XY 255991.626 4632917.548 *
RMSE_XY 5.12 *
IMAGE_SOURCE "BLACK & WHITE FILM" *
SOURCE_IMAGE_ID "NAPP 6202 76" *
SOURCE_IMAGE_DATE 1993 07 08 *
SOURCE_DEM_DATE 1979 08 01 *
AGENCY "WESTERN MAPPING CENTER (WMC)" *
PRODUCER "NIES MAPPING GROUP, INC." *
PRODUCTION_SYSTEM "INTERGRAPH MODEL_SETUP, BASE_RECTIFIER" *
STANDARD_VERSION 1996 12 *
METADATA_DATE 1999 10 27 *
DATA_FILE_SIZE 47207475 *
BYTE_COUNT 6111 * * * * * * * * * * * * * * * * * * * * * * * * * * * * * * * * * *
END_USGS_HEADER *
