BEGIN_USGS_DOQ_HEADER *
QUADRANGLE_NAME "BARREL SPRINGS" *
QUADRANT SW *
WEST_LONGITUDE -120 0 0.000 *
EAST_LONGITUDE -119 56 15.000 *
NORTH_LATITUDE 41 56 15.000 *
SOUTH_LATITUDE 41 52 30.000 *
PRODUCTION_DATE 1999 10 27 *
RASTER_ORDER LEFT_RIGHT/TOP_BOTTOM *
BAND_ORGANIZATION "SINGLE FILE" *
BAND_CONTENT BLACK&WHITE *
BITS_PER_PIXEL 8 *
SAMPLES_AND_LINES 6112 7728 *
HORIZONTAL_DATUM NAD83 *
HORIZONTAL_COORDINATE_SYSTEM UTM *
COORDINATE_ZONE 11 *
HORIZONTAL_UNITS METERS *
HORIZONTAL_RESOLUTION 1.000000 *
SECONDARY_HORIZONTAL_DATUM NAD27 *
XY_ORIGIN 250661.500 4647489.500 *
SECONDARY_XY_ORIGIN 250742.780 4647285.254 *
NATION US *
STATE NV *
STATE CA *
NW_QUAD_CORNER_XY 251291.846 4647190.608 *
NE_QUAD_CORNER_XY 256473.761 4647011.004 *
SE_QUAD_CORNER_XY 256235.897 4640070.818 *
SW_QUAD_CORNER_XY 251048.910 4640250.379 *
SECONDARY_NW_QUAD_XY 251284.999 4646977.278 *
SECONDARY_NE_QUAD_XY 256467.057 4646797.668 *
SECONDARY_SE_QUAD_XY 256229.196 4639857.579 *
SECONDARY_SW_QUAD_XY 251042.066 4640037.146 *
RMSE_XY 1.63 *
IMAGE_SOURCE "BLACK & WHITE FILM" *
SOURCE_IMAGE_ID "NAPP 6202 85" *
SOURCE_IMAGE_DATE 1993 07 08 *
SOURCE_DEM_DATE 1966 00 00 *
AGENCY "WESTERN MAPPING CENTER (WMC)" *
PRODUCER "NIES MAPPING GROUP, INC." *
PRODUCTION_SYSTEM "INTERGRAPH MODEL_SETUP, BASE_RECTIFIER" *
STANDARD_VERSION 1996 12 *
METADATA_DATE 1999 10 27 *
DATA_FILE_SIZE 47239648 *
BYTE_COUNT 6112 * * * * * * * * * * * * * * * * * * * * * * * * * * * * * * * * *
END_USGS_HEADER *
