FILENAME: 41120A43
QUADRANGLE_NAME: MADELINE
QUADRANT: SE
WEST_LONGITUDE: -120 26 15.00000
EAST_LONGITUDE: -120 22 30.00000
NORTH_LATITUDE: 41 3 45.00000
SOUTH_LATITUDE: 41 0 0.00000
PRODUCTION_DATE: 2001 7 8
RASTER_ORDER: LEFT_RIGHT/TOP_BOTTOM
BAND_ORGANIZATION: SINGLE FILE
BAND_CONTENT: BLACK&WHITE
BAND_CONTENT: UNDEFINED
BAND_CONTENT: UNDEFINED
BITS_PER_PIXEL: 8
SAMPLES_AND_LINES: 6161 7720
HORIZONTAL_DATUM: NAD83
HORIZONTAL_COORDINATE_SYSTEM: UTM
COORDINATE_ZONE: 10
HORIZONTAL_UNITS: meters
HORIZONTAL_RESOLUTION: 1.00000
SECONDARY_HORIZONTAL_DATUM: NAD27
XY_ORIGIN: 714922.00000 4549321.00000
SECONDARY_XY_ORIGIN: 715016.53100 4549123.16100
NATION: US
STATE: CA
NW_QUAD_CORNER_XY: 715316.44100 4548859.15700
NE_QUAD_CORNER_XY: 720568.56500 4549015.44500
SE_QUAD_CORNERY_XY: 720777.41500 4542076.29600
SW_QUAD_CORNER_XY: 715520.31000 4541920.05600
SECONDARY_NW_QUAD_XY: 715322.24600 4548647.23300
SECONDARY_NE_QUAD_XY: 720574.51200 4548803.52500
SECONDARY_SE_QUAD_XY: 720783.35900 4541864.48600
SECONDARY_SW_QUAD_XY: 715526.11200 4541708.24100
RMSE_XY: 1.48000
IMAGE_SOURCE: BLACK AND WHITE FILM
SOURCE_IMAGE_ID: NAPP 10500-092
SOURCE_IMAGE_DATE: 1998 8 12
SOURCE_DEM_DATE: 1997 7 1
AGENCY: WESTERN MAPPING CENTER (WMC)
PRODUCER: WOOLPERT LLP
PRODUCTION_SYSTEM: INTERGRAPH ISPM, ISIR
COMPRESSION: UNDEFINED
STANDARD_VERSION: 1996 12
METADATA_DATE: 2001 7 23
DATA_FILE_SIZE: 47569081
BYTE_COUNT: 6161
