BEGIN_USGS_DOQ_HEADER *
QUADRANGLE_NAME "JESS VALLEY" 3.45 or 7.5-min. name*
QUADRANT NE quadrant indicator if cell size = 3.75-minutes*
WEST_LONGITUDE -120 18 45.000 signed deg min sec SDDD MM SS.SSS*
EAST_LONGITUDE -120 15 0.000 signed deg min sec SDDD MM SS.SSS*
NORTH_LATITUDE 41 15 0.000 signed deg min sec SDDD MM SS.SSS*
SOUTH_LATITUDE 41 11 15.000 signed deg min sec SDDD MM SS.SSS*
PRODUCTION_DATE 2000 12 6 yyyy mm dd*
RASTER_ORDER LEFT_RIGHT/TOP_BOTTOM video display order*
BAND_ORGANIZATION "SINGLE FILE" single file or BSQ, or BIL or BIP*
BAND_CONTENT BLACK&WHITE black&white or red green blue*
BITS_PER_PIXEL 8 radiometric resolution*
SAMPLES_AND_LINES 6148 7721 number of columns and rows*
HORIZONTAL_DATUM NAD83 primary horizontal datum*
HORIZONTAL_COORDINATE_SYSTEM UTM *
COORDINATE_ZONE 10 coordinate system zone number*
HORIZONTAL_UNITS METERS coordinate system units*
HORIZONTAL_RESOLUTION 1.00 pixel horiz. ground sample distance*
SECONDARY_HORIZONTAL_DATUM NAD27 secondary horizontal datum*
XY_ORIGIN 724788.000 4570458.000 coord. of upper left pixel pri. datum*
SECONDARY_XY_ORIGIN 724882.350 4570260.097 coord upper left pixel sec datum*
NATION US nation code*
STATE CA state fip code*
NW_QUAD_CORNER_XY 725177.614 4569993.452 XY coords. of pri. NW quad corner*
NE_QUAD_CORNER_XY 730414.828 4570157.431 XY coords. of pri. NE quad corner*
SE_QUAD_CORNER_XY 730634.469 4563218.009 XY coords. of pri. SE quad corner*
SW_QUAD_CORNER_XY 725392.254 4563054.077 XY coords. of pri. SW quad corner*
SECONDARY_NW_QUAD_XY 725183.713 4569781.214 XY coords. - sec. NW quad cor.*
SECONDARY_NE_QUAD_XY 730421.069 4569945.198 XY coords. - sec. NE quad cor.*
SECONDARY_SE_QUAD_XY 730640.706 4563005.882 XY coords. - sec. SE quad cor.*
SECONDARY_SW_QUAD_XY 725398.349 4562841.947 XY coords. - sec. SW quad cor.*
RMSE_XY 3.00 doq horiz. accuracy*
IMAGE_SOURCE "BLACK AND WHITE FILM" b&w, cir, natural color, other*
SOURCE_IMAGE_ID "NAPP 10506 026" source image id*
SOURCE_IMAGE_DATE 1998 08 24 source image date as yyyy mm dd*
SOURCE_DEM_DATE 2000 01 01 source dem date yyyy mm dd*
AGENCY "WESTERN MAPPING CENTER (WMC)" oversight agency*
PRODUCER "SCIENCE APPLICATIONS INTERNATIONAL" producer/contractor*
PRODUCTION_SYSTEM "GIS/MAGIC" production system*
STANDARD_VERSION 1996 12 version of DOQ standard*
METADATA_DATE 2000 12 19 date created or changed, yyyy mm dd*
DATA_FILE_SIZE 47474856 data set size in bytes*
BYTE_COUNT 6148 header byte count* * * * * * * * * * * * * * * * * * * * * * * * * * * * * * * * * *
END_USGS_HEADER *
