BEGIN_USGS_DOQ_HEADER *
QUADRANGLE_NAME "LIKELY" 3.45 or 7.5-min. name*
QUADRANT SE quadrant indicator if cell size = 3.75-minutes*
WEST_LONGITUDE -120 33 45.000 signed deg min sec SDDD MM SS.SSS*
EAST_LONGITUDE -120 30 0.000 signed deg min sec SDDD MM SS.SSS*
NORTH_LATITUDE 41 11 15.000 signed deg min sec SDDD MM SS.SSS*
SOUTH_LATITUDE 41 7 30.000 signed deg min sec SDDD MM SS.SSS*
PRODUCTION_DATE 2000 12 7 yyyy mm dd*
RASTER_ORDER LEFT_RIGHT/TOP_BOTTOM video display order*
BAND_ORGANIZATION "SINGLE FILE" single file or BSQ, or BIL or BIP*
BAND_CONTENT BLACK&WHITE black&white or red green blue*
BITS_PER_PIXEL 8 radiometric resolution*
SAMPLES_AND_LINES 6134 7705 number of columns and rows*
HORIZONTAL_DATUM NAD83 primary horizontal datum*
HORIZONTAL_COORDINATE_SYSTEM UTM *
COORDINATE_ZONE 10 coordinate system zone number*
HORIZONTAL_UNITS METERS coordinate system units*
HORIZONTAL_RESOLUTION 1.00 pixel horiz. ground sample distance*
SECONDARY_HORIZONTAL_DATUM NAD27 secondary horizontal datum*
XY_ORIGIN 704033.000 4562885.000 coord. of upper left pixel pri. datum*
SECONDARY_XY_ORIGIN 704127.568 4562687.040 coord upper left pixel sec datum*
NATION US nation code*
STATE CA state fip code*
NW_QUAD_CORNER_XY 704423.747 4562436.099 XY coords. of pri. NW quad corner*
NE_QUAD_CORNER_XY 709665.823 4562584.932 XY coords. of pri. NE quad corner*
SE_QUAD_CORNER_XY 709865.213 4555645.756 XY coords. of pri. SE quad corner*
SW_QUAD_CORNER_XY 704618.145 4555496.966 XY coords. of pri. SW quad corner*
SECONDARY_NW_QUAD_XY 704429.275 4562223.951 XY coords. - sec. NW quad cor.*
SECONDARY_NE_QUAD_XY 709671.492 4562372.789 XY coords. - sec. NE quad cor.*
SECONDARY_SE_QUAD_XY 709870.880 4555433.719 XY coords. - sec. SE quad cor.*
SECONDARY_SW_QUAD_XY 704623.670 4555284.926 XY coords. - sec. SW quad cor.*
RMSE_XY 2.00 doq horiz. accuracy*
IMAGE_SOURCE "BLACK AND WHITE FILM" b&w, cir, natural color, other*
SOURCE_IMAGE_ID "NAPP 10507 232" source image id*
SOURCE_IMAGE_DATE 1998 08 25 source image date as yyyy mm dd*
SOURCE_DEM_DATE 2000 01 01 source dem date yyyy mm dd*
AGENCY "WESTERN MAPPING CENTER (WMC)" oversight agency*
PRODUCER "SCIENCE APPLICATIONS INTERNATIONAL" producer/contractor*
PRODUCTION_SYSTEM "GIS/MAGIC" production system*
STANDARD_VERSION 1996 12 version of DOQ standard*
METADATA_DATE 2000 12 08 date created or changed, yyyy mm dd*
DATA_FILE_SIZE 47268604 data set size in bytes*
BYTE_COUNT 6134 header byte count* * * * * * * * * * * * * * * * * * * * * * * * * * * * * * * * * *
END_USGS_HEADER *
