BEGIN_USGS_DOQ_HEADER *
QUADRANGLE_NAME "AMBROSE VALLEY" 3.45 or 7.5-min. name*
QUADRANT SE quadrant indicator if cell size = 3.75-minutes*
WEST_LONGITUDE -120 48 45.000 signed deg min sec SDDD MM SS.SSS*
EAST_LONGITUDE -120 45 0.000 signed deg min sec SDDD MM SS.SSS*
NORTH_LATITUDE 41 11 15.000 signed deg min sec SDDD MM SS.SSS*
SOUTH_LATITUDE 41 7 30.000 signed deg min sec SDDD MM SS.SSS*
PRODUCTION_DATE 2000 12 6 yyyy mm dd*
RASTER_ORDER LEFT_RIGHT/TOP_BOTTOM video display order*
BAND_ORGANIZATION "SINGLE FILE" single file or BSQ, or BIL or BIP*
BAND_CONTENT BLACK&WHITE black&white or red green blue*
BITS_PER_PIXEL 8 radiometric resolution*
SAMPLES_AND_LINES 6115 7690 number of columns and rows*
HORIZONTAL_DATUM NAD83 primary horizontal datum*
HORIZONTAL_COORDINATE_SYSTEM UTM *
COORDINATE_ZONE 10 coordinate system zone number*
HORIZONTAL_UNITS METERS coordinate system units*
HORIZONTAL_RESOLUTION 1.00 pixel horiz. ground sample distance*
SECONDARY_HORIZONTAL_DATUM NAD27 secondary horizontal datum*
XY_ORIGIN 683064.000 4562313.000 coord. of upper left pixel pri. datum*
SECONDARY_XY_ORIGIN 683158.758 4562115.075 coord upper left pixel sec datum*
NATION US nation code*
STATE CA state fip code*
NW_QUAD_CORNER_XY 683455.761 4561878.494 XY coords. of pri. NW quad corner*
NE_QUAD_CORNER_XY 688697.711 4562012.237 XY coords. of pri. NE quad corner*
SE_QUAD_CORNER_XY 688877.137 4555073.230 XY coords. of pri. SE quad corner*
SW_QUAD_CORNER_XY 683630.196 4554939.527 XY coords. of pri. SW quad corner*
SECONDARY_NW_QUAD_XY 683460.722 4561666.331 XY coords. - sec. NW quad cor.*
SECONDARY_NE_QUAD_XY 688702.814 4561800.077 XY coords. - sec. NE quad cor.*
SECONDARY_SE_QUAD_XY 688882.236 4554861.178 XY coords. - sec. SE quad cor.*
SECONDARY_SW_QUAD_XY 683635.154 4554727.471 XY coords. - sec. SW quad cor.*
RMSE_XY 1.90 doq horiz. accuracy*
IMAGE_SOURCE "BLACK AND WHITE FILM" b&w, cir, natural color, other*
SOURCE_IMAGE_ID "NAPP 10497 219" source image id*
SOURCE_IMAGE_DATE 1998 08 03 source image date as yyyy mm dd*
SOURCE_DEM_DATE 2000 01 01 source dem date yyyy mm dd*
AGENCY "WESTERN MAPPING CENTER (WMC)" oversight agency*
PRODUCER "SCIENCE APPLICATIONS INTERNATIONAL" producer/contractor*
PRODUCTION_SYSTEM "GIS/MAGIC" production system*
STANDARD_VERSION 1996 12 version of DOQ standard*
METADATA_DATE 2000 12 08 date created or changed, yyyy mm dd*
DATA_FILE_SIZE 47030465 data set size in bytes*
BYTE_COUNT 6115 header byte count* * * * * * * * * * * * * * * * * * * * * * * * * * * * * * * * * *
END_USGS_HEADER *
