BEGIN_USGS_DOQ_HEADER *
QUADRANGLE_NAME "EAGLEVILLE" 3.45 or 7.5-min. name*
QUADRANT NW quadrant indicator if cell size = 3.75-minutes*
WEST_LONGITUDE -120 7 30.000 signed deg min sec SDDD MM SS.SSS*
EAST_LONGITUDE -120 3 45.000 signed deg min sec SDDD MM SS.SSS*
NORTH_LATITUDE 41 22 30.000 signed deg min sec SDDD MM SS.SSS*
SOUTH_LATITUDE 41 18 45.000 signed deg min sec SDDD MM SS.SSS*
PRODUCTION_DATE 2000 12 18 yyyy mm dd*
RASTER_ORDER LEFT_RIGHT/TOP_BOTTOM video display order*
BAND_ORGANIZATION "SINGLE FILE" single file or BSQ, or BIL or BIP*
BAND_CONTENT BLACK&WHITE black&white or red green blue*
BITS_PER_PIXEL 8 radiometric resolution*
SAMPLES_AND_LINES 6153 7733 number of columns and rows*
HORIZONTAL_DATUM NAD83 primary horizontal datum*
HORIZONTAL_COORDINATE_SYSTEM UTM *
COORDINATE_ZONE 10 coordinate system zone number*
HORIZONTAL_UNITS METERS coordinate system units*
HORIZONTAL_RESOLUTION 1.00 pixel horiz. ground sample distance*
SECONDARY_HORIZONTAL_DATUM NAD27 secondary horizontal datum*
XY_ORIGIN 740040.000 4584852.000 coord. of upper left pixel pri. datum*
SECONDARY_XY_ORIGIN 740134.209 4584654.114 coord upper left pixel sec datum*
NATION US nation code*
STATE CA state fip code*
NW_QUAD_CORNER_XY 740429.214 4584375.931 XY coords. of pri. NW quad corner*
NE_QUAD_CORNER_XY 745656.515 4584551.341 XY coords. of pri. NE quad corner*
SE_QUAD_CORNER_XY 745891.749 4577611.658 XY coords. of pri. SE quad corner*
SW_QUAD_CORNER_XY 740659.433 4577436.297 XY coords. of pri. SW quad corner*
SECONDARY_NW_QUAD_XY 740435.746 4584163.497 XY coords. - sec. NW quad cor.*
SECONDARY_NE_QUAD_XY 745663.188 4584338.911 XY coords. - sec. NE quad cor.*
SECONDARY_SE_QUAD_XY 745898.419 4577399.333 XY coords. - sec. SE quad cor.*
SECONDARY_SW_QUAD_XY 740665.961 4577223.967 XY coords. - sec. SW quad cor.*
RMSE_XY 1.70 doq horiz. accuracy*
IMAGE_SOURCE "BLACK AND WHITE FILM" b&w, cir, natural color, other*
SOURCE_IMAGE_ID "NAPP 10511 226" source image id*
SOURCE_IMAGE_DATE 1999 09 26 source image date as yyyy mm dd*
SOURCE_IMAGE_ID "NAPP 10511 107" source image id*
SOURCE_IMAGE_DATE 1999 09 26 source image date as yyyy mm dd*
SOURCE_DEM_DATE 2001 01 01 source dem date yyyy mm dd*
AGENCY "WESTERN MAPPING CENTER (WMC)" oversight agency*
PRODUCER "SCIENCE APPLICATIONS INTERNATIONAL" producer/contractor*
PRODUCTION_SYSTEM "GIS/MAGIC" production system*
STANDARD_VERSION 1996 12 version of DOQ standard*
METADATA_DATE 2001 01 02 date created or changed, yyyy mm dd*
DATA_FILE_SIZE 47587302 data set size in bytes*
BYTE_COUNT 6153 header byte count* * * * * * * * * * * * * * * * * * * * * * * * * * * * * * * *
END_USGS_HEADER *
