BEGIN_USGS_DOQ_HEADER *
QUADRANGLE_NAME "SOUP CREEK" 3.45 or 7.5-min. name*
QUADRANT NW quadrant indicator if cell size = 3.75-minutes*
WEST_LONGITUDE -120 22 30.000 signed deg min sec SDDD MM SS.SSS*
EAST_LONGITUDE -120 18 45.000 signed deg min sec SDDD MM SS.SSS*
NORTH_LATITUDE 41 22 30.000 signed deg min sec SDDD MM SS.SSS*
SOUTH_LATITUDE 41 18 45.000 signed deg min sec SDDD MM SS.SSS*
PRODUCTION_DATE 2000 12 6 yyyy mm dd*
RASTER_ORDER LEFT_RIGHT/TOP_BOTTOM video display order*
BAND_ORGANIZATION "SINGLE FILE" single file or BSQ, or BIL or BIP*
BAND_CONTENT BLACK&WHITE black&white or red green blue*
BITS_PER_PIXEL 8 radiometric resolution*
SAMPLES_AND_LINES 6133 7717 number of columns and rows*
HORIZONTAL_DATUM NAD83 primary horizontal datum*
HORIZONTAL_COORDINATE_SYSTEM UTM *
COORDINATE_ZONE 10 coordinate system zone number*
HORIZONTAL_UNITS METERS coordinate system units*
HORIZONTAL_RESOLUTION 1.00 pixel horiz. ground sample distance*
SECONDARY_HORIZONTAL_DATUM NAD27 secondary horizontal datum*
XY_ORIGIN 719131.000 4584173.000 coord. of upper left pixel pri. datum*
SECONDARY_XY_ORIGIN 719225.310 4583974.974 coord upper left pixel sec datum*
NATION US nation code*
STATE CA state fip code*
NW_QUAD_CORNER_XY 719520.369 4583712.084 XY coords. of pri. NW quad corner*
NE_QUAD_CORNER_XY 724747.529 4583872.378 XY coords. of pri. NE quad corner*
SE_QUAD_CORNER_XY 724962.706 4576932.885 XY coords. of pri. SE quad corner*
SW_QUAD_CORNER_XY 719730.534 4576772.637 XY coords. of pri. SW quad corner*
SECONDARY_NW_QUAD_XY 719526.332 4583499.632 XY coords. - sec. NW quad cor.*
SECONDARY_NE_QUAD_XY 724753.634 4583659.930 XY coords. - sec. NE quad cor.*
SECONDARY_SE_QUAD_XY 724968.808 4576720.542 XY coords. - sec. SE quad cor.*
SECONDARY_SW_QUAD_XY 719736.493 4576560.289 XY coords. - sec. SW quad cor.*
RMSE_XY 1.20 doq horiz. accuracy*
IMAGE_SOURCE "BLACK AND WHITE FILM" b&w, cir, natural color, other*
SOURCE_IMAGE_ID "NAPP 10500 022" source image id*
SOURCE_IMAGE_DATE 1998 08 12 source image date as yyyy mm dd*
SOURCE_DEM_DATE 2000 01 01 source dem date yyyy mm dd*
AGENCY "WESTERN MAPPING CENTER (WMC)" oversight agency*
PRODUCER "SCIENCE APPLICATIONS INTERNATIONAL" producer/contractor*
PRODUCTION_SYSTEM "GIS/MAGIC" production system*
STANDARD_VERSION 1996 12 version of DOQ standard*
METADATA_DATE 2000 12 19 date created or changed, yyyy mm dd*
DATA_FILE_SIZE 47334494 data set size in bytes*
BYTE_COUNT 6133 header byte count* * * * * * * * * * * * * * * * * * * * * * * * * * * * * * * * * *
END_USGS_HEADER *
