BEGIN_USGS_DOQ_HEADER *
QUADRANGLE_NAME "INFERNAL CAVERNS" 3.45 or 7.5-min. name*
QUADRANT SE quadrant indicator if cell size = 3.75-minutes*
WEST_LONGITUDE -120 33 45.000 signed deg min sec SDDD MM SS.SSS*
EAST_LONGITUDE -120 30 0.000 signed deg min sec SDDD MM SS.SSS*
NORTH_LATITUDE 41 18 45.000 signed deg min sec SDDD MM SS.SSS*
SOUTH_LATITUDE 41 15 0.000 signed deg min sec SDDD MM SS.SSS*
PRODUCTION_DATE 2000 12 7 yyyy mm dd*
RASTER_ORDER LEFT_RIGHT/TOP_BOTTOM video display order*
BAND_ORGANIZATION "SINGLE FILE" single file or BSQ, or BIL or BIP*
BAND_CONTENT BLACK&WHITE black&white or red green blue*
BITS_PER_PIXEL 8 radiometric resolution*
SAMPLES_AND_LINES 6124 7705 number of columns and rows*
HORIZONTAL_DATUM NAD83 primary horizontal datum*
HORIZONTAL_COORDINATE_SYSTEM UTM *
COORDINATE_ZONE 10 coordinate system zone number*
HORIZONTAL_UNITS METERS coordinate system units*
HORIZONTAL_RESOLUTION 1.00 pixel horiz. ground sample distance*
SECONDARY_HORIZONTAL_DATUM NAD27 secondary horizontal datum*
XY_ORIGIN 703644.000 4576764.000 coord. of upper left pixel pri. datum*
SECONDARY_XY_ORIGIN 703738.476 4576565.944 coord upper left pixel sec datum*
NATION US nation code*
STATE CA state fip code*
NW_QUAD_CORNER_XY 704034.218 4576314.550 XY coords. of pri. NW quad corner*
NE_QUAD_CORNER_XY 709266.290 4576463.469 XY coords. of pri. NE quad corner*
SE_QUAD_CORNER_XY 709466.182 4569524.170 XY coords. of pri. SE quad corner*
SW_QUAD_CORNER_XY 704229.104 4569375.293 XY coords. of pri. SW quad corner*
SECONDARY_NW_QUAD_XY 704039.751 4576102.190 XY coords. - sec. NW quad cor.*
SECONDARY_NE_QUAD_XY 709271.966 4576251.113 XY coords. - sec. NE quad cor.*
SECONDARY_SE_QUAD_XY 709471.854 4569311.920 XY coords. - sec. SE quad cor.*
SECONDARY_SW_QUAD_XY 704234.635 4569163.039 XY coords. - sec. SW quad cor.*
RMSE_XY 2.00 doq horiz. accuracy*
IMAGE_SOURCE "BLACK AND WHITE FILM" b&w, cir, natural color, other*
SOURCE_IMAGE_ID "NAPP 10507 228" source image id*
SOURCE_IMAGE_DATE 1998 08 25 source image date as yyyy mm dd*
SOURCE_DEM_DATE 2000 01 01 source dem date yyyy mm dd*
AGENCY "WESTERN MAPPING CENTER (WMC)" oversight agency*
PRODUCER "SCIENCE APPLICATIONS INTERNATIONAL" producer/contractor*
PRODUCTION_SYSTEM "GIS/MAGIC" production system*
STANDARD_VERSION 1996 12 version of DOQ standard*
METADATA_DATE 2000 12 12 date created or changed, yyyy mm dd*
DATA_FILE_SIZE 47191544 data set size in bytes*
BYTE_COUNT 6124 header byte count* * * * * * * * * * * * * * * * * * * * * * * * * * * * * * * * * *
END_USGS_HEADER *
