BEGIN_USGS_DOQ_HEADER *
QUADRANGLE_NAME "HANSEN ISLAND" 3.45 or 7.5-min. name*
QUADRANT NE quadrant indicator if cell size = 3.75-minutes*
WEST_LONGITUDE -120 3 45.000 signed deg min sec SDDD MM SS.SSS*
EAST_LONGITUDE -120 0 0.000 signed deg min sec SDDD MM SS.SSS*
NORTH_LATITUDE 41 30 0.000 signed deg min sec SDDD MM SS.SSS*
SOUTH_LATITUDE 41 26 15.000 signed deg min sec SDDD MM SS.SSS*
PRODUCTION_DATE 1998 4 23 yyyy mm dd*
RASTER_ORDER LEFT_RIGHT/TOP_BOTTOM video display order*
BAND_ORGANIZATION "SINGLE FILE" single file or BSQ, or BIL or BIP*
BAND_CONTENT BLACK&WHITE black&white or red green blue*
BITS_PER_PIXEL 8 radiometric resolution*
SAMPLES_AND_LINES 6149 7737 number of columns and rows*
HORIZONTAL_DATUM NAD83 primary horizontal datum*
HORIZONTAL_COORDINATE_SYSTEM UTM *
COORDINATE_ZONE 10 coordinate system zone number*
HORIZONTAL_UNITS METERS coordinate system units*
HORIZONTAL_RESOLUTION 1.00 pixel horiz. ground sample distance*
SECONDARY_HORIZONTAL_DATUM NAD27 secondary horizontal datum*
XY_ORIGIN 744796.000 4598911.000 coord. of upper left pixel pri. datum*
SECONDARY_XY_ORIGIN 744890.060 4598713.046 coord upper left pixel sec datum*
NATION US nation code*
STATE CA state fip code*
NW_QUAD_CORNER_XY 745185.167 4598430.875 XY coords. of pri. NW quad corner*
NE_QUAD_CORNER_XY 750402.454 4598610.163 XY coords. of pri. NE quad corner*
SE_QUAD_CORNER_XY 750643.303 4591670.319 XY coords. of pri. SE quad corner*
SW_QUAD_CORNER_XY 745420.987 4591491.080 XY coords. of pri. SW quad corner*
SECONDARY_NW_QUAD_XY 745191.847 4598218.238 XY coords. - sec. NW quad cor.*
SECONDARY_NE_QUAD_XY 750409.276 4598397.531 XY coords. - sec. NE quad cor.*
SECONDARY_SE_QUAD_XY 750650.122 4591457.791 XY coords. - sec. SE quad cor.*
SECONDARY_SW_QUAD_XY 745427.664 4591278.546 XY coords. - sec. SW quad cor.*
RMSE_XY 1.80 doq horiz. accuracy*
IMAGE_SOURCE "BLACK AND WHITE FILM" b&w, cir, natural color, other*
SOURCE_IMAGE_ID "NAPP 6202 226" source image id*
SOURCE_IMAGE_DATE 1993 07 08 source image date as yyyy mm dd*
SOURCE_DEM_DATE 1997 01 01 source dem date yyyy mm dd*
AGENCY "WESTERN MAPPING CENTER (WMC)" oversight agency*
PRODUCER "SCIENCE APPLICATIONS INTERNATIONAL" producer/contractor*
PRODUCTION_SYSTEM "GIS/MAGIC" production system*
STANDARD_VERSION 1996 12 version of DOQ standard*
METADATA_DATE 1998 04 29 date created or changed, yyyy mm dd*
DATA_FILE_SIZE 47580962 data set size in bytes*
BYTE_COUNT 6149 header byte count* * * * * * * * * * * * * * * * * * * * * * * * * * * * * * * * * *
END_USGS_HEADER *
