BEGIN_USGS_DOQ_HEADER *
QUADRANGLE_NAME "WARREN PEAK" 3.45 or 7.5-min. name*
QUADRANT NW quadrant indicator if cell size = 3.75-minutes*
WEST_LONGITUDE -120 15 0.000 signed deg min sec SDDD MM SS.SSS*
EAST_LONGITUDE -120 11 15.000 signed deg min sec SDDD MM SS.SSS*
NORTH_LATITUDE 41 30 0.000 signed deg min sec SDDD MM SS.SSS*
SOUTH_LATITUDE 41 26 15.000 signed deg min sec SDDD MM SS.SSS*
PRODUCTION_DATE 2000 12 19 yyyy mm dd*
RASTER_ORDER LEFT_RIGHT/TOP_BOTTOM video display order*
BAND_ORGANIZATION "SINGLE FILE" single file or BSQ, or BIL or BIP*
BAND_CONTENT BLACK&WHITE black&white or red green blue*
BITS_PER_PIXEL 8 radiometric resolution*
SAMPLES_AND_LINES 6134 7725 number of columns and rows*
HORIZONTAL_DATUM NAD83 primary horizontal datum*
HORIZONTAL_COORDINATE_SYSTEM UTM *
COORDINATE_ZONE 10 coordinate system zone number*
HORIZONTAL_UNITS METERS coordinate system units*
HORIZONTAL_RESOLUTION 1.00 pixel horiz. ground sample distance*
SECONDARY_HORIZONTAL_DATUM NAD27 secondary horizontal datum*
XY_ORIGIN 729144.000 4598384.000 coord. of upper left pixel pri. datum*
SECONDARY_XY_ORIGIN 729238.186 4598185.953 coord upper left pixel sec datum*
NATION US nation code*
STATE CA state fip code*
NW_QUAD_CORNER_XY 729533.517 4597915.702 XY coords. of pri. NW quad corner*
NE_QUAD_CORNER_XY 734750.699 4598083.645 XY coords. of pri. NE quad corner*
SE_QUAD_CORNER_XY 734976.465 4591143.944 XY coords. of pri. SE quad corner*
SW_QUAD_CORNER_XY 729754.257 4590976.047 XY coords. of pri. SW quad corner*
SECONDARY_NW_QUAD_XY 729539.771 4597703.051 XY coords. - sec. NW quad cor.*
SECONDARY_NE_QUAD_XY 734757.095 4597870.998 XY coords. - sec. NE quad cor.*
SECONDARY_SE_QUAD_XY 734982.858 4590931.401 XY coords. - sec. SE quad cor.*
SECONDARY_SW_QUAD_XY 729760.507 4590763.499 XY coords. - sec. SW quad cor.*
RMSE_XY 2.80 doq horiz. accuracy*
IMAGE_SOURCE "BLACK AND WHITE FILM" b&w, cir, natural color, other*
SOURCE_IMAGE_ID "NAPP 10511 068" source image id*
SOURCE_IMAGE_DATE 1999 09 26 source image date as yyyy mm dd*
SOURCE_IMAGE_ID "NAPP 10511 067" source image id*
SOURCE_IMAGE_DATE 1999 09 26 source image date as yyyy mm dd*
SOURCE_IMAGE_ID "NAPP 10511 069" source image id*
SOURCE_IMAGE_DATE 1999 09 26 source image date as yyyy mm dd*
SOURCE_IMAGE_ID "NAPP 10511 104" source image id*
SOURCE_IMAGE_DATE 1999 09 26 source image date as yyyy mm dd*
SOURCE_IMAGE_ID "NAPP 10511 103" source image id*
SOURCE_IMAGE_DATE 1999 09 26 source image date as yyyy mm dd*
SOURCE_DEM_DATE 2001 01 01 source dem date yyyy mm dd*
AGENCY "WESTERN MAPPING CENTER (WMC)" oversight agency*
PRODUCER "SCIENCE APPLICATIONS INTERNATIONAL" producer/contractor*
PRODUCTION_SYSTEM "GIS/MAGIC" production system*
STANDARD_VERSION 1996 12 version of DOQ standard*
METADATA_DATE 2001 01 02 date created or changed, yyyy mm dd*
DATA_FILE_SIZE 47391284 data set size in bytes*
BYTE_COUNT 6134 header byte count* * * * * * * * * * * * * * * * * * * * * * * * * *
END_USGS_HEADER *
