BEGIN_USGS_DOQ_HEADER *
QUADRANGLE_NAME "ALTURAS" 3.45 or 7.5-min. name*
QUADRANT NE quadrant indicator if cell size = 3.75-minutes*
WEST_LONGITUDE -120 33 45.000 signed deg min sec SDDD MM SS.SSS*
EAST_LONGITUDE -120 30 0.000 signed deg min sec SDDD MM SS.SSS*
NORTH_LATITUDE 41 30 0.000 signed deg min sec SDDD MM SS.SSS*
SOUTH_LATITUDE 41 26 15.000 signed deg min sec SDDD MM SS.SSS*
PRODUCTION_DATE 2000 12 7 yyyy mm dd*
RASTER_ORDER LEFT_RIGHT/TOP_BOTTOM video display order*
BAND_ORGANIZATION "SINGLE FILE" single file or BSQ, or BIL or BIP*
BAND_CONTENT BLACK&WHITE black&white or red green blue*
BITS_PER_PIXEL 8 radiometric resolution*
SAMPLES_AND_LINES 6109 7706 number of columns and rows*
HORIZONTAL_DATUM NAD83 primary horizontal datum*
HORIZONTAL_COORDINATE_SYSTEM UTM *
COORDINATE_ZONE 10 coordinate system zone number*
HORIZONTAL_UNITS METERS coordinate system units*
HORIZONTAL_RESOLUTION 1.00 pixel horiz. ground sample distance*
SECONDARY_HORIZONTAL_DATUM NAD27 secondary horizontal datum*
XY_ORIGIN 703058.000 4597582.000 coord. of upper left pixel pri. datum*
SECONDARY_XY_ORIGIN 703152.307 4597383.806 coord upper left pixel sec datum*
NATION US nation code*
STATE CA state fip code*
NW_QUAD_CORNER_XY 703448.096 4597132.691 XY coords. of pri. NW quad corner*
NE_QUAD_CORNER_XY 708665.118 4597281.734 XY coords. of pri. NE quad corner*
SE_QUAD_CORNER_XY 708865.758 4590342.251 XY coords. of pri. SE quad corner*
SW_QUAD_CORNER_XY 703643.713 4590193.249 XY coords. of pri. SW quad corner*
SECONDARY_NW_QUAD_XY 703453.639 4596920.019 XY coords. - sec. NW quad cor.*
SECONDARY_NE_QUAD_XY 708670.802 4597069.066 XY coords. - sec. NE quad cor.*
SECONDARY_SE_QUAD_XY 708871.440 4590129.686 XY coords. - sec. SE quad cor.*
SECONDARY_SW_QUAD_XY 703649.253 4589980.680 XY coords. - sec. SW quad cor.*
RMSE_XY 1.70 doq horiz. accuracy*
IMAGE_SOURCE "BLACK AND WHITE FILM" b&w, cir, natural color, other*
SOURCE_IMAGE_ID "NAPP 10507 222" source image id*
SOURCE_IMAGE_DATE 1998 08 25 source image date as yyyy mm dd*
SOURCE_DEM_DATE 2000 01 01 source dem date yyyy mm dd*
AGENCY "WESTERN MAPPING CENTER (WMC)" oversight agency*
PRODUCER "SCIENCE APPLICATIONS INTERNATIONAL" producer/contractor*
PRODUCTION_SYSTEM "GIS/MAGIC" production system*
STANDARD_VERSION 1996 12 version of DOQ standard*
METADATA_DATE 2000 12 12 date created or changed, yyyy mm dd*
DATA_FILE_SIZE 47082063 data set size in bytes*
BYTE_COUNT 6109 header byte count* * * * * * * * * * * * * * * * * * * * * * * * * * * * * * * * * *
END_USGS_HEADER *
