BEGIN_USGS_DOQ_HEADER *
QUADRANGLE_NAME "WASHINGTON MOUNTAIN" 3.45 or 7.5-min. name*
QUADRANT NW quadrant indicator if cell size = 3.75-minutes*
WEST_LONGITUDE -121 0 0.000 signed deg min sec SDDD MM SS.SSS*
EAST_LONGITUDE -120 56 15.000 signed deg min sec SDDD MM SS.SSS*
NORTH_LATITUDE 41 30 0.000 signed deg min sec SDDD MM SS.SSS*
SOUTH_LATITUDE 41 26 15.000 signed deg min sec SDDD MM SS.SSS*
PRODUCTION_DATE 2000 12 1 yyyy mm dd*
RASTER_ORDER LEFT_RIGHT/TOP_BOTTOM video display order*
BAND_ORGANIZATION "SINGLE FILE" single file or BSQ, or BIL or BIP*
BAND_CONTENT BLACK&WHITE black&white or red green blue*
BITS_PER_PIXEL 8 radiometric resolution*
SAMPLES_AND_LINES 6076 7679 number of columns and rows*
HORIZONTAL_DATUM NAD83 primary horizontal datum*
HORIZONTAL_COORDINATE_SYSTEM UTM *
COORDINATE_ZONE 10 coordinate system zone number*
HORIZONTAL_UNITS METERS coordinate system units*
HORIZONTAL_RESOLUTION 1.00 pixel horiz. ground sample distance*
SECONDARY_HORIZONTAL_DATUM NAD27 secondary horizontal datum*
XY_ORIGIN 666538.000 4596618.000 coord. of upper left pixel pri. datum*
SECONDARY_XY_ORIGIN 666632.555 4596419.764 coord upper left pixel sec datum*
NATION US nation code*
STATE CA state fip code*
NW_QUAD_CORNER_XY 666929.738 4596195.167 XY coords. of pri. NW quad corner*
NE_QUAD_CORNER_XY 672146.567 4596317.768 XY coords. of pri. NE quad corner*
SE_QUAD_CORNER_XY 672312.055 4589378.548 XY coords. of pri. SE quad corner*
SW_QUAD_CORNER_XY 667090.207 4589255.980 XY coords. of pri. SW quad corner*
SECONDARY_NW_QUAD_XY 666934.285 4595982.469 XY coords. - sec. NW quad cor.*
SECONDARY_NE_QUAD_XY 672151.256 4596105.074 XY coords. - sec. NE quad cor.*
SECONDARY_SE_QUAD_XY 672316.742 4589165.957 XY coords. - sec. SE quad cor.*
SECONDARY_SW_QUAD_XY 667094.752 4589043.385 XY coords. - sec. SW quad cor.*
RMSE_XY 1.90 doq horiz. accuracy*
IMAGE_SOURCE "BLACK AND WHITE FILM" b&w, cir, natural color, other*
SOURCE_IMAGE_ID "NAPP 10498 018" source image id*
SOURCE_IMAGE_DATE 1998 08 03 source image date as yyyy mm dd*
SOURCE_DEM_DATE 2000 01 01 source dem date yyyy mm dd*
AGENCY "WESTERN MAPPING CENTER (WMC)" oversight agency*
PRODUCER "SCIENCE APPLICATIONS INTERNATIONAL" producer/contractor*
PRODUCTION_SYSTEM "GIS/MAGIC" production system*
STANDARD_VERSION 1996 12 version of DOQ standard*
METADATA_DATE 2000 12 08 date created or changed, yyyy mm dd*
DATA_FILE_SIZE 46663680 data set size in bytes*
BYTE_COUNT 6076 header byte count* * * * * * * * * * * * * * * * * * * * * * * * * * * * * * * * *
END_USGS_HEADER *
