BEGIN_USGS_DOQ_HEADER *
QUADRANGLE_NAME "SURPRISE STATION" 3.45 or 7.5-min. name*
QUADRANT SE quadrant indicator if cell size = 3.75-minutes*
WEST_LONGITUDE -120 26 15.000 signed deg min sec SDDD MM SS.SSS*
EAST_LONGITUDE -120 22 30.000 signed deg min sec SDDD MM SS.SSS*
NORTH_LATITUDE 41 33 45.000 signed deg min sec SDDD MM SS.SSS*
SOUTH_LATITUDE 41 30 0.000 signed deg min sec SDDD MM SS.SSS*
PRODUCTION_DATE 2000 12 6 yyyy mm dd*
RASTER_ORDER LEFT_RIGHT/TOP_BOTTOM video display order*
BAND_ORGANIZATION "SINGLE FILE" single file or BSQ, or BIL or BIP*
BAND_CONTENT BLACK&WHITE black&white or red green blue*
BITS_PER_PIXEL 8 radiometric resolution*
SAMPLES_AND_LINES 6115 7713 number of columns and rows*
HORIZONTAL_DATUM NAD83 primary horizontal datum*
HORIZONTAL_COORDINATE_SYSTEM UTM *
COORDINATE_ZONE 10 coordinate system zone number*
HORIZONTAL_UNITS METERS coordinate system units*
HORIZONTAL_RESOLUTION 1.00 pixel horiz. ground sample distance*
SECONDARY_HORIZONTAL_DATUM NAD27 secondary horizontal datum*
XY_ORIGIN 713286.000 4604831.000 coord. of upper left pixel pri. datum*
SECONDARY_XY_ORIGIN 713380.218 4604632.828 coord upper left pixel sec datum*
NATION US nation code*
STATE CA state fip code*
NW_QUAD_CORNER_XY 713676.250 4604374.142 XY coords. of pri. NW quad corner*
NE_QUAD_CORNER_XY 718888.303 4604530.785 XY coords. of pri. NE quad corner*
SE_QUAD_CORNER_XY 719099.253 4597591.158 XY coords. of pri. SE quad corner*
SW_QUAD_CORNER_XY 713882.170 4597434.557 XY coords. of pri. SW quad corner*
SECONDARY_NW_QUAD_XY 713682.080 4604161.375 XY coords. - sec. NW quad cor.*
SECONDARY_NE_QUAD_XY 718894.275 4604318.023 XY coords. - sec. NE quad cor.*
SECONDARY_SE_QUAD_XY 719105.222 4597378.499 XY coords. - sec. SE quad cor.*
SECONDARY_SW_QUAD_XY 713887.997 4597221.893 XY coords. - sec. SW quad cor.*
RMSE_XY 2.10 doq horiz. accuracy*
IMAGE_SOURCE "BLACK AND WHITE FILM" b&w, cir, natural color, other*
SOURCE_IMAGE_ID "NAPP 10500 108" source image id*
SOURCE_IMAGE_DATE 1998 08 12 source image date as yyyy mm dd*
SOURCE_DEM_DATE 2000 01 01 source dem date yyyy mm dd*
AGENCY "WESTERN MAPPING CENTER (WMC)" oversight agency*
PRODUCER "SCIENCE APPLICATIONS INTERNATIONAL" producer/contractor*
PRODUCTION_SYSTEM "GIS/MAGIC" production system*
STANDARD_VERSION 1996 12 version of DOQ standard*
METADATA_DATE 2000 12 12 date created or changed, yyyy mm dd*
DATA_FILE_SIZE 47171110 data set size in bytes*
BYTE_COUNT 6115 header byte count* * * * * * * * * * * * * * * * * * * * * * * * * * * * * * * * * *
END_USGS_HEADER *
