BEGIN_USGS_DOQ_HEADER *
QUADRANGLE_NAME "JACKS BUTTE" 3.45 or 7.5-min. name*
QUADRANT SW quadrant indicator if cell size = 3.75-minutes*
WEST_LONGITUDE -120 52 30.000 signed deg min sec SDDD MM SS.SSS*
EAST_LONGITUDE -120 48 45.000 signed deg min sec SDDD MM SS.SSS*
NORTH_LATITUDE 41 33 45.000 signed deg min sec SDDD MM SS.SSS*
SOUTH_LATITUDE 41 30 0.000 signed deg min sec SDDD MM SS.SSS*
PRODUCTION_DATE 2000 12 5 yyyy mm dd*
RASTER_ORDER LEFT_RIGHT/TOP_BOTTOM video display order*
BAND_ORGANIZATION "SINGLE FILE" single file or BSQ, or BIL or BIP*
BAND_CONTENT BLACK&WHITE black&white or red green blue*
BITS_PER_PIXEL 8 radiometric resolution*
SAMPLES_AND_LINES 6080 7687 number of columns and rows*
HORIZONTAL_DATUM NAD83 primary horizontal datum*
HORIZONTAL_COORDINATE_SYSTEM UTM *
COORDINATE_ZONE 10 coordinate system zone number*
HORIZONTAL_UNITS METERS coordinate system units*
HORIZONTAL_RESOLUTION 1.00 pixel horiz. ground sample distance*
SECONDARY_HORIZONTAL_DATUM NAD27 secondary horizontal datum*
XY_ORIGIN 676802.000 4603814.000 coord. of upper left pixel pri. datum*
SECONDARY_XY_ORIGIN 676896.432 4603615.719 coord upper left pixel sec datum*
NATION US nation code*
STATE CA state fip code*
NW_QUAD_CORNER_XY 677192.700 4603383.466 XY coords. of pri. NW quad corner*
NE_QUAD_CORNER_XY 682404.553 4603513.655 XY coords. of pri. NE quad corner*
SE_QUAD_CORNER_XY 682580.301 4596574.300 XY coords. of pri. SE quad corner*
SW_QUAD_CORNER_XY 677363.421 4596444.146 XY coords. of pri. SW quad corner*
SECONDARY_NW_QUAD_XY 677197.534 4603170.673 XY coords. - sec. NW quad cor.*
SECONDARY_NE_QUAD_XY 682409.530 4603300.865 XY coords. - sec. NE quad cor.*
SECONDARY_SE_QUAD_XY 682585.274 4596361.613 XY coords. - sec. SE quad cor.*
SECONDARY_SW_QUAD_XY 677368.252 4596231.455 XY coords. - sec. SW quad cor.*
RMSE_XY 1.30 doq horiz. accuracy*
IMAGE_SOURCE "BLACK AND WHITE FILM" b&w, cir, natural color, other*
SOURCE_IMAGE_ID "NAPP 10497 184" source image id*
SOURCE_IMAGE_DATE 1998 08 03 source image date as yyyy mm dd*
SOURCE_IMAGE_ID "NAPP 10497 185" source image id*
SOURCE_IMAGE_DATE 1998 08 03 source image date as yyyy mm dd*
SOURCE_DEM_DATE 2000 01 01 source dem date yyyy mm dd*
AGENCY "WESTERN MAPPING CENTER (WMC)" oversight agency*
PRODUCER "SCIENCE APPLICATIONS INTERNATIONAL" producer/contractor*
PRODUCTION_SYSTEM "GIS/MAGIC" production system*
STANDARD_VERSION 1996 12 version of DOQ standard*
METADATA_DATE 2000 12 12 date created or changed, yyyy mm dd*
DATA_FILE_SIZE 46743040 data set size in bytes*
BYTE_COUNT 6080 header byte count* * * * * * * * * * * * * * * * * * * * * * * * * * * * * * *
END_USGS_HEADER *
