BEGIN_USGS_DOQ_HEADER *
QUADRANGLE_NAME "AMBROSE" 3.45 or 7.5-min. name*
QUADRANT NE quadrant indicator if cell size = 3.75-minutes*
WEST_LONGITUDE -120 56 15.000 signed deg min sec SDDD MM SS.SSS*
EAST_LONGITUDE -120 52 30.000 signed deg min sec SDDD MM SS.SSS*
NORTH_LATITUDE 41 37 30.000 signed deg min sec SDDD MM SS.SSS*
SOUTH_LATITUDE 41 33 45.000 signed deg min sec SDDD MM SS.SSS*
PRODUCTION_DATE 2000 12 4 yyyy mm dd*
RASTER_ORDER LEFT_RIGHT/TOP_BOTTOM video display order*
BAND_ORGANIZATION "SINGLE FILE" single file or BSQ, or BIL or BIP*
BAND_CONTENT BLACK&WHITE black&white or red green blue*
BITS_PER_PIXEL 8 radiometric resolution*
SAMPLES_AND_LINES 6070 7683 number of columns and rows*
HORIZONTAL_DATUM NAD83 primary horizontal datum*
HORIZONTAL_COORDINATE_SYSTEM UTM *
COORDINATE_ZONE 10 coordinate system zone number*
HORIZONTAL_UNITS METERS coordinate system units*
HORIZONTAL_RESOLUTION 1.00 pixel horiz. ground sample distance*
SECONDARY_HORIZONTAL_DATUM NAD27 secondary horizontal datum*
XY_ORIGIN 671424.000 4610623.000 coord. of upper left pixel pri. datum*
SECONDARY_XY_ORIGIN 671518.409 4610424.718 coord upper left pixel sec datum*
NATION US nation code*
STATE CA state fip code*
NW_QUAD_CORNER_XY 671814.973 4610196.407 XY coords. of pri. NW quad corner*
NE_QUAD_CORNER_XY 677021.768 4610322.852 XY coords. of pri. NE quad corner*
SE_QUAD_CORNER_XY 677192.700 4603383.466 XY coords. of pri. SE quad corner*
SW_QUAD_CORNER_XY 671980.873 4603257.055 XY coords. of pri. SW quad corner*
SECONDARY_NW_QUAD_XY 671819.667 4609983.509 XY coords. - sec. NW quad cor.*
SECONDARY_NE_QUAD_XY 677026.604 4610109.957 XY coords. - sec. NE quad cor.*
SECONDARY_SE_QUAD_XY 677197.534 4603170.673 XY coords. - sec. SE quad cor.*
SECONDARY_SW_QUAD_XY 671985.564 4603044.258 XY coords. - sec. SW quad cor.*
RMSE_XY 0.80 doq horiz. accuracy*
IMAGE_SOURCE "BLACK AND WHITE FILM" b&w, cir, natural color, other*
SOURCE_IMAGE_ID "NAPP 10497 155" source image id*
SOURCE_IMAGE_DATE 1998 08 03 source image date as yyyy mm dd*
SOURCE_DEM_DATE 2000 01 01 source dem date yyyy mm dd*
AGENCY "WESTERN MAPPING CENTER (WMC)" oversight agency*
PRODUCER "SCIENCE APPLICATIONS INTERNATIONAL" producer/contractor*
PRODUCTION_SYSTEM "GIS/MAGIC" production system*
STANDARD_VERSION 1996 12 version of DOQ standard*
METADATA_DATE 2000 12 07 date created or changed, yyyy mm dd*
DATA_FILE_SIZE 46641880 data set size in bytes*
BYTE_COUNT 6070 header byte count* * * * * * * * * * * * * * * * * * * * * * * * * * * * * * * * *
END_USGS_HEADER *
