BEGIN_USGS_DOQ_HEADER *
QUADRANGLE_NAME "DEAD HORSE RESERVOIR" 3.45 or 7.5-min. name*
QUADRANT SE quadrant indicator if cell size = 3.75-minutes*
WEST_LONGITUDE -120 33 45.000 signed deg min sec SDDD MM SS.SSS*
EAST_LONGITUDE -120 30 0.000 signed deg min sec SDDD MM SS.SSS*
NORTH_LATITUDE 41 41 15.000 signed deg min sec SDDD MM SS.SSS*
SOUTH_LATITUDE 41 37 30.000 signed deg min sec SDDD MM SS.SSS*
PRODUCTION_DATE 2000 12 6 yyyy mm dd*
RASTER_ORDER LEFT_RIGHT/TOP_BOTTOM video display order*
BAND_ORGANIZATION "SINGLE FILE" single file or BSQ, or BIL or BIP*
BAND_CONTENT BLACK&WHITE black&white or red green blue*
BITS_PER_PIXEL 8 radiometric resolution*
SAMPLES_AND_LINES 6095 7706 number of columns and rows*
HORIZONTAL_DATUM NAD83 primary horizontal datum*
HORIZONTAL_COORDINATE_SYSTEM UTM *
COORDINATE_ZONE 10 coordinate system zone number*
HORIZONTAL_UNITS METERS coordinate system units*
HORIZONTAL_RESOLUTION 1.00 pixel horiz. ground sample distance*
SECONDARY_HORIZONTAL_DATUM NAD27 secondary horizontal datum*
XY_ORIGIN 702470.000 4618401.000 coord. of upper left pixel pri. datum*
SECONDARY_XY_ORIGIN 702564.164 4618202.722 coord upper left pixel sec datum*
NATION US nation code*
STATE CA state fip code*
NW_QUAD_CORNER_XY 702859.787 4617951.390 XY coords. of pri. NW quad corner*
NE_QUAD_CORNER_XY 708061.701 4618100.551 XY coords. of pri. NE quad corner*
SE_QUAD_CORNER_XY 708263.089 4611160.884 XY coords. of pri. SE quad corner*
SW_QUAD_CORNER_XY 703056.133 4611011.762 XY coords. of pri. SW quad corner*
SECONDARY_NW_QUAD_XY 702865.338 4617738.414 XY coords. - sec. NW quad cor.*
SECONDARY_NE_QUAD_XY 708067.395 4617887.578 XY coords. - sec. NE quad cor.*
SECONDARY_SE_QUAD_XY 708268.780 4610948.012 XY coords. - sec. SE quad cor.*
SECONDARY_SW_QUAD_XY 703061.681 4610798.886 XY coords. - sec. SW quad cor.*
RMSE_XY 0.70 doq horiz. accuracy*
IMAGE_SOURCE "BLACK AND WHITE FILM" b&w, cir, natural color, other*
SOURCE_IMAGE_ID "NAPP 10500 149" source image id*
SOURCE_IMAGE_DATE 1998 08 12 source image date as yyyy mm dd*
SOURCE_IMAGE_ID "NAPP 10500 148" source image id*
SOURCE_IMAGE_DATE 1998 08 12 source image date as yyyy mm dd*
SOURCE_DEM_DATE 2000 01 01 source dem date yyyy mm dd*
AGENCY "WESTERN MAPPING CENTER (WMC)" oversight agency*
PRODUCER "SCIENCE APPLICATIONS INTERNATIONAL" producer/contractor*
PRODUCTION_SYSTEM "GIS/MAGIC" production system*
STANDARD_VERSION 1996 12 version of DOQ standard*
METADATA_DATE 2000 12 12 date created or changed, yyyy mm dd*
DATA_FILE_SIZE 46974165 data set size in bytes*
BYTE_COUNT 6095 header byte count* * * * * * * * * * * * * * * * * * * * * * * * * * * * * * * *
END_USGS_HEADER *
