BEGIN_USGS_DOQ_HEADER *
QUADRANGLE_NAME "WHITTEMORE RIDGE" 3.45 or 7.5-min. name*
QUADRANT SE quadrant indicator if cell size = 3.75-minutes*
WEST_LONGITUDE -120 41 15.000 signed deg min sec SDDD MM SS.SSS*
EAST_LONGITUDE -120 37 30.000 signed deg min sec SDDD MM SS.SSS*
NORTH_LATITUDE 41 41 15.000 signed deg min sec SDDD MM SS.SSS*
SOUTH_LATITUDE 41 37 30.000 signed deg min sec SDDD MM SS.SSS*
PRODUCTION_DATE 2000 12 6 yyyy mm dd*
RASTER_ORDER LEFT_RIGHT/TOP_BOTTOM video display order*
BAND_ORGANIZATION "SINGLE FILE" single file or BSQ, or BIL or BIP*
BAND_CONTENT BLACK&WHITE black&white or red green blue*
BITS_PER_PIXEL 8 radiometric resolution*
SAMPLES_AND_LINES 6085 7699 number of columns and rows*
HORIZONTAL_DATUM NAD83 primary horizontal datum*
HORIZONTAL_COORDINATE_SYSTEM UTM *
COORDINATE_ZONE 10 coordinate system zone number*
HORIZONTAL_UNITS METERS coordinate system units*
HORIZONTAL_RESOLUTION 1.00 pixel horiz. ground sample distance*
SECONDARY_HORIZONTAL_DATUM NAD27 secondary horizontal datum*
XY_ORIGIN 692066.000 4618107.000 coord. of upper left pixel pri. datum*
SECONDARY_XY_ORIGIN 692160.191 4617908.666 coord upper left pixel sec datum*
NATION US nation code*
STATE CA state fip code*
NW_QUAD_CORNER_XY 692456.042 4617664.414 XY coords. of pri. NW quad corner*
NE_QUAD_CORNER_XY 697657.901 4617806.011 XY coords. of pri. NE quad corner*
SE_QUAD_CORNER_XY 697849.205 4610866.420 XY coords. of pri. SE quad corner*
SW_QUAD_CORNER_XY 692642.306 4610724.859 XY coords. of pri. SW quad corner*
SECONDARY_NW_QUAD_XY 692461.309 4617451.429 XY coords. - sec. NW quad cor.*
SECONDARY_NE_QUAD_XY 697663.310 4617593.031 XY coords. - sec. NE quad cor.*
SECONDARY_SE_QUAD_XY 697854.611 4610653.540 XY coords. - sec. SE quad cor.*
SECONDARY_SW_QUAD_XY 692647.569 4610511.975 XY coords. - sec. SW quad cor.*
RMSE_XY 1.20 doq horiz. accuracy*
IMAGE_SOURCE "BLACK AND WHITE FILM" b&w, cir, natural color, other*
SOURCE_IMAGE_ID "NAPP 10507 070" source image id*
SOURCE_IMAGE_DATE 1998 08 25 source image date as yyyy mm dd*
SOURCE_DEM_DATE 2000 01 01 source dem date yyyy mm dd*
AGENCY "WESTERN MAPPING CENTER (WMC)" oversight agency*
PRODUCER "SCIENCE APPLICATIONS INTERNATIONAL" producer/contractor*
PRODUCTION_SYSTEM "GIS/MAGIC" production system*
STANDARD_VERSION 1996 12 version of DOQ standard*
METADATA_DATE 2000 12 12 date created or changed, yyyy mm dd*
DATA_FILE_SIZE 46854500 data set size in bytes*
BYTE_COUNT 6085 header byte count* * * * * * * * * * * * * * * * * * * * * * * * * * * * * * * * * *
END_USGS_HEADER *
