BEGIN_USGS_DOQ_HEADER *
QUADRANGLE_NAME "SUGAR HILL" 3.45 or 7.5-min. name*
QUADRANT SE quadrant indicator if cell size = 3.75-minutes*
WEST_LONGITUDE -120 18 45.000 signed deg min sec SDDD MM SS.SSS*
EAST_LONGITUDE -120 15 0.000 signed deg min sec SDDD MM SS.SSS*
NORTH_LATITUDE 41 48 45.000 signed deg min sec SDDD MM SS.SSS*
SOUTH_LATITUDE 41 45 0.000 signed deg min sec SDDD MM SS.SSS*
PRODUCTION_DATE 2000 12 6 yyyy mm dd*
RASTER_ORDER LEFT_RIGHT/TOP_BOTTOM video display order*
BAND_ORGANIZATION "SINGLE FILE" single file or BSQ, or BIL or BIP*
BAND_CONTENT BLACK&WHITE black&white or red green blue*
BITS_PER_PIXEL 8 radiometric resolution*
SAMPLES_AND_LINES 6105 7722 number of columns and rows*
HORIZONTAL_DATUM NAD83 primary horizontal datum*
HORIZONTAL_COORDINATE_SYSTEM UTM *
COORDINATE_ZONE 10 coordinate system zone number*
HORIZONTAL_UNITS METERS coordinate system units*
HORIZONTAL_RESOLUTION 1.00 pixel horiz. ground sample distance*
SECONDARY_HORIZONTAL_DATUM NAD27 secondary horizontal datum*
XY_ORIGIN 722844.000 4632915.000 coord. of upper left pixel pri. datum*
SECONDARY_XY_ORIGIN 722938.161 4632716.769 coord upper left pixel sec datum*
NATION US nation code*
STATE CA state fip code*
NW_QUAD_CORNER_XY 723233.784 4632450.479 XY coords. of pri. NW quad corner*
NE_QUAD_CORNER_XY 728425.711 4632614.852 XY coords. of pri. NE quad corner*
SE_QUAD_CORNER_XY 728647.819 4625674.905 XY coords. of pri. SE quad corner*
SW_QUAD_CORNER_XY 723450.836 4625510.573 XY coords. of pri. SW quad corner*
SECONDARY_NW_QUAD_XY 723239.911 4632237.320 XY coords. - sec. NW quad cor.*
SECONDARY_NE_QUAD_XY 728431.981 4632401.698 XY coords. - sec. NE quad cor.*
SECONDARY_SE_QUAD_XY 728654.086 4625461.850 XY coords. - sec. SE quad cor.*
SECONDARY_SW_QUAD_XY 723456.960 4625297.513 XY coords. - sec. SW quad cor.*
RMSE_XY 2.20 doq horiz. accuracy*
IMAGE_SOURCE "BLACK AND WHITE FILM" b&w, cir, natural color, other*
SOURCE_IMAGE_ID "NAPP 10506 008" source image id*
SOURCE_IMAGE_DATE 1998 08 24 source image date as yyyy mm dd*
SOURCE_IMAGE_ID "NAPP 10506 009" source image id*
SOURCE_IMAGE_DATE 1998 08 24 source image date as yyyy mm dd*
SOURCE_DEM_DATE 2000 01 01 source dem date yyyy mm dd*
AGENCY "WESTERN MAPPING CENTER (WMC)" oversight agency*
PRODUCER "SCIENCE APPLICATIONS INTERNATIONAL" producer/contractor*
PRODUCTION_SYSTEM "GIS/MAGIC" production system*
STANDARD_VERSION 1996 12 version of DOQ standard*
METADATA_DATE 2000 12 12 date created or changed, yyyy mm dd*
DATA_FILE_SIZE 47148915 data set size in bytes*
BYTE_COUNT 6105 header byte count* * * * * * * * * * * * * * * * * * * * * * * * * * * * * * * *
END_USGS_HEADER *
