BEGIN_USGS_DOQ_HEADER *
QUADRANGLE_NAME "SUGAR HILL" 3.45 or 7.5-min. name*
QUADRANT SW quadrant indicator if cell size = 3.75-minutes*
WEST_LONGITUDE -120 22 30.000 signed deg min sec SDDD MM SS.SSS*
EAST_LONGITUDE -120 18 45.000 signed deg min sec SDDD MM SS.SSS*
NORTH_LATITUDE 41 48 45.000 signed deg min sec SDDD MM SS.SSS*
SOUTH_LATITUDE 41 45 0.000 signed deg min sec SDDD MM SS.SSS*
PRODUCTION_DATE 2000 12 6 yyyy mm dd*
RASTER_ORDER LEFT_RIGHT/TOP_BOTTOM video display order*
BAND_ORGANIZATION "SINGLE FILE" single file or BSQ, or BIL or BIP*
BAND_CONTENT BLACK&WHITE black&white or red green blue*
BITS_PER_PIXEL 8 radiometric resolution*
SAMPLES_AND_LINES 6100 7718 number of columns and rows*
HORIZONTAL_DATUM NAD83 primary horizontal datum*
HORIZONTAL_COORDINATE_SYSTEM UTM *
COORDINATE_ZONE 10 coordinate system zone number*
HORIZONTAL_UNITS METERS coordinate system units*
HORIZONTAL_RESOLUTION 1.00 pixel horiz. ground sample distance*
SECONDARY_HORIZONTAL_DATUM NAD27 secondary horizontal datum*
XY_ORIGIN 717652.000 4632751.000 coord. of upper left pixel pri. datum*
SECONDARY_XY_ORIGIN 717746.130 4632552.763 coord upper left pixel sec datum*
NATION US nation code*
STATE CA state fip code*
NW_QUAD_CORNER_XY 718041.887 4632289.891 XY coords. of pri. NW quad corner*
NE_QUAD_CORNER_XY 723233.784 4632450.479 XY coords. of pri. NE quad corner*
SE_QUAD_CORNER_XY 723450.836 4625510.573 XY coords. of pri. SE quad corner*
SW_QUAD_CORNER_XY 718253.883 4625350.025 XY coords. of pri. SW quad corner*
SECONDARY_NW_QUAD_XY 718047.872 4632076.728 XY coords. - sec. NW quad cor.*
SECONDARY_NE_QUAD_XY 723239.911 4632237.320 XY coords. - sec. NE quad cor.*
SECONDARY_SE_QUAD_XY 723456.960 4625297.513 XY coords. - sec. SE quad cor.*
SECONDARY_SW_QUAD_XY 718259.864 4625136.961 XY coords. - sec. SW quad cor.*
RMSE_XY 1.30 doq horiz. accuracy*
IMAGE_SOURCE "BLACK AND WHITE FILM" b&w, cir, natural color, other*
SOURCE_IMAGE_ID "NAPP 10500 008" source image id*
SOURCE_IMAGE_DATE 1998 08 12 source image date as yyyy mm dd*
SOURCE_IMAGE_ID "NAPP 10500 009" source image id*
SOURCE_IMAGE_DATE 1998 08 12 source image date as yyyy mm dd*
SOURCE_DEM_DATE 2000 01 01 source dem date yyyy mm dd*
AGENCY "WESTERN MAPPING CENTER (WMC)" oversight agency*
PRODUCER "SCIENCE APPLICATIONS INTERNATIONAL" producer/contractor*
PRODUCTION_SYSTEM "GIS/MAGIC" production system*
STANDARD_VERSION 1996 12 version of DOQ standard*
METADATA_DATE 2000 12 12 date created or changed, yyyy mm dd*
DATA_FILE_SIZE 47085900 data set size in bytes*
BYTE_COUNT 6100 header byte count* * * * * * * * * * * * * * * * * * * * * * * * * * * * * * * *
END_USGS_HEADER *
