BEGIN_USGS_DOQ_HEADER *
QUADRANGLE_NAME "HAGER BASIN" 3.45 or 7.5-min. name*
QUADRANT NW quadrant indicator if cell size = 3.75-minutes*
WEST_LONGITUDE -120 52 30.000 signed deg min sec SDDD MM SS.SSS*
EAST_LONGITUDE -120 48 45.000 signed deg min sec SDDD MM SS.SSS*
NORTH_LATITUDE 41 52 30.000 signed deg min sec SDDD MM SS.SSS*
SOUTH_LATITUDE 41 48 45.000 signed deg min sec SDDD MM SS.SSS*
PRODUCTION_DATE 2000 12 6 yyyy mm dd*
RASTER_ORDER LEFT_RIGHT/TOP_BOTTOM video display order*
BAND_ORGANIZATION "SINGLE FILE" single file or BSQ, or BIL or BIP*
BAND_CONTENT BLACK&WHITE black&white or red green blue*
BITS_PER_PIXEL 8 radiometric resolution*
SAMPLES_AND_LINES 6056 7688 number of columns and rows*
HORIZONTAL_DATUM NAD83 primary horizontal datum*
HORIZONTAL_COORDINATE_SYSTEM UTM *
COORDINATE_ZONE 10 coordinate system zone number*
HORIZONTAL_UNITS METERS coordinate system units*
HORIZONTAL_RESOLUTION 1.00 pixel horiz. ground sample distance*
SECONDARY_HORIZONTAL_DATUM NAD27 secondary horizontal datum*
XY_ORIGIN 675945.000 4638512.000 coord. of upper left pixel pri. datum*
SECONDARY_XY_ORIGIN 676039.197 4638313.711 coord upper left pixel sec datum*
NATION US nation code*
STATE CA state fip code*
NW_QUAD_CORNER_XY 676335.925 4638081.048 XY coords. of pri. NW quad corner*
NE_QUAD_CORNER_XY 681522.550 4638211.402 XY coords. of pri. NE quad corner*
SE_QUAD_CORNER_XY 681699.385 4631271.723 XY coords. of pri. SE quad corner*
SW_QUAD_CORNER_XY 676507.702 4631141.401 XY coords. of pri. SW quad corner*
SECONDARY_NW_QUAD_XY 676340.771 4637867.755 XY coords. - sec. NW quad cor.*
SECONDARY_NE_QUAD_XY 681527.539 4637998.112 XY coords. - sec. NE quad cor.*
SECONDARY_SE_QUAD_XY 681704.372 4631058.532 XY coords. - sec. SE quad cor.*
SECONDARY_SW_QUAD_XY 676512.546 4630928.206 XY coords. - sec. SW quad cor.*
RMSE_XY 1.00 doq horiz. accuracy*
IMAGE_SOURCE "BLACK AND WHITE FILM" b&w, cir, natural color, other*
SOURCE_IMAGE_ID "NAPP 10497 174" source image id*
SOURCE_IMAGE_DATE 1998 08 03 source image date as yyyy mm dd*
SOURCE_DEM_DATE 2000 01 01 source dem date yyyy mm dd*
AGENCY "WESTERN MAPPING CENTER (WMC)" oversight agency*
PRODUCER "SCIENCE APPLICATIONS INTERNATIONAL" producer/contractor*
PRODUCTION_SYSTEM "GIS/MAGIC" production system*
STANDARD_VERSION 1996 12 version of DOQ standard*
METADATA_DATE 2000 12 12 date created or changed, yyyy mm dd*
DATA_FILE_SIZE 46564584 data set size in bytes*
BYTE_COUNT 6056 header byte count* * * * * * * * * * * * * * * * * * * * * * * * * * * * * * * * *
END_USGS_HEADER *
