BEGIN_USGS_DOQ_HEADER *
QUADRANGLE_NAME "HAGER BASIN" 3.45 or 7.5-min. name*
QUADRANT SW quadrant indicator if cell size = 3.75-minutes*
WEST_LONGITUDE -120 52 30.000 signed deg min sec SDDD MM SS.SSS*
EAST_LONGITUDE -120 48 45.000 signed deg min sec SDDD MM SS.SSS*
NORTH_LATITUDE 41 48 45.000 signed deg min sec SDDD MM SS.SSS*
SOUTH_LATITUDE 41 45 0.000 signed deg min sec SDDD MM SS.SSS*
PRODUCTION_DATE 2000 12 6 yyyy mm dd*
RASTER_ORDER LEFT_RIGHT/TOP_BOTTOM video display order*
BAND_ORGANIZATION "SINGLE FILE" single file or BSQ, or BIL or BIP*
BAND_CONTENT BLACK&WHITE black&white or red green blue*
BITS_PER_PIXEL 8 radiometric resolution*
SAMPLES_AND_LINES 6061 7687 number of columns and rows*
HORIZONTAL_DATUM NAD83 primary horizontal datum*
HORIZONTAL_COORDINATE_SYSTEM UTM *
COORDINATE_ZONE 10 coordinate system zone number*
HORIZONTAL_UNITS METERS coordinate system units*
HORIZONTAL_RESOLUTION 1.00 pixel horiz. ground sample distance*
SECONDARY_HORIZONTAL_DATUM NAD27 secondary horizontal datum*
XY_ORIGIN 676117.000 4631572.000 coord. of upper left pixel pri. datum*
SECONDARY_XY_ORIGIN 676211.216 4631373.689 coord upper left pixel sec datum*
NATION US nation code*
STATE CA state fip code*
NW_QUAD_CORNER_XY 676507.702 4631141.401 XY coords. of pri. NW quad corner*
NE_QUAD_CORNER_XY 681699.385 4631271.723 XY coords. of pri. NE quad corner*
SE_QUAD_CORNER_XY 681876.004 4624332.109 XY coords. of pri. SE quad corner*
SW_QUAD_CORNER_XY 676679.269 4624201.819 XY coords. of pri. SW quad corner*
SECONDARY_NW_QUAD_XY 676512.546 4630928.206 XY coords. - sec. NW quad cor.*
SECONDARY_NE_QUAD_XY 681704.372 4631058.532 XY coords. - sec. NE quad cor.*
SECONDARY_SE_QUAD_XY 681880.988 4624119.017 XY coords. - sec. SE quad cor.*
SECONDARY_SW_QUAD_XY 676684.110 4623988.723 XY coords. - sec. SW quad cor.*
RMSE_XY 1.50 doq horiz. accuracy*
IMAGE_SOURCE "BLACK AND WHITE FILM" b&w, cir, natural color, other*
SOURCE_IMAGE_ID "NAPP 10497 176" source image id*
SOURCE_IMAGE_DATE 1998 08 03 source image date as yyyy mm dd*
SOURCE_DEM_DATE 2000 01 01 source dem date yyyy mm dd*
AGENCY "WESTERN MAPPING CENTER (WMC)" oversight agency*
PRODUCER "SCIENCE APPLICATIONS INTERNATIONAL" producer/contractor*
PRODUCTION_SYSTEM "GIS/MAGIC" production system*
STANDARD_VERSION 1996 12 version of DOQ standard*
METADATA_DATE 2000 12 12 date created or changed, yyyy mm dd*
DATA_FILE_SIZE 46596968 data set size in bytes*
BYTE_COUNT 6061 header byte count* * * * * * * * * * * * * * * * * * * * * * * * * * * * * * * * *
END_USGS_HEADER *
