BEGIN_USGS_DOQ_HEADER *
QUADRANGLE_NAME "LAKE ANNIE" *
WEST_LONGITUDE -120 7 30.000 *
EAST_LONGITUDE -120 0 0.000 *
NORTH_LATITUDE 42 0 0.000 *
SOUTH_LATITUDE 41 52 30.000 *
PRODUCTION_DATE 1999 09 30 *
RASTER_ORDER LEFT_RIGHT/TOP_BOTTOM *
BAND_ORGANIZATION "SINGLE FILE" *
BAND_CONTENT BLACK&WHITE *
BITS_PER_PIXEL 8 *
SAMPLES_AND_LINES 11440 14835 *
HORIZONTAL_DATUM NAD83 *
HORIZONTAL_COORDINATE_SYSTEM UTM *
COORDINATE_ZONE 10 *
HORIZONTAL_UNITS METERS *
HORIZONTAL_RESOLUTION 1.000000 *
SECONDARY_HORIZONTAL_DATUM NAD27 *
XY_ORIGIN 737724.173 4654415.120 *
SECONDARY_XY_ORIGIN 737818.300 4654217.000 *
NATION US *
STATE CA *
STATE OR *
NW_QUAD_CORNER_XY 738111.276 4653775.389 *
NE_QUAD_CORNER_XY 748464.921 4654130.892 *
SE_QUAD_CORNER_XY 748951.090 4640250.379 *
SW_QUAD_CORNER_XY 738577.148 4639895.044 *
SECONDARY_NW_QUAD_XY 738117.841 4653561.952 *
SECONDARY_NE_QUAD_XY 748471.771 4653917.465 *
SECONDARY_SE_QUAD_XY 748957.934 4640037.146 *
SECONDARY_SW_QUAD_XY 738583.706 4639681.801 *
RMSE_XY 10.00 *
IMAGE_SOURCE "BLACK AND WHITE FILM" *
SOURCE_IMAGE_ID "NAPP 6202 242" *
SOURCE_IMAGE_DATE 1993 07 08 *
IMAGE_SOURCE "BLACK AND WHITE FILM" *
SOURCE_IMAGE_ID "NAPP 6203 2" *
SOURCE_IMAGE_DATE 1993 07 08 *
IMAGE_SOURCE "BLACK AND WHITE FILM" *
SOURCE_IMAGE_ID "NAPP 6202 240" *
SOURCE_IMAGE_DATE 1993 07 08 *
IMAGE_SOURCE "BLACK AND WHITE FILM" *
SOURCE_IMAGE_ID "NAPP 6203 4" *
SOURCE_IMAGE_DATE 1993 07 08 *
SOURCE_DEM_DATE 1980 00 00 *
AGENCY "WESTERN MAPPING CENTER (WMC)" *
PRODUCER "USDA FS REGION 6" *
PRODUCTION_SYSTEM "INTERGRAPH MODEL_SETUP, BASE_RECTIFIER" *
STANDARD_VERSION 1996 12 *
METADATA_DATE 1999 09 30 *
DATA_FILE_SIZE 169723840 *
BYTE_COUNT 11440 * * * * * * * * * * * * * * * * * * * * * * * * * * * * * * * * * * * * * * * * * * * * * * * * * * * * * * * * * * * * * * * * * * * * * * * * * * * * * * * * * * * * * * * * * * *
END_USGS_HEADER *
