BEGIN_USGS_DOQ_HEADER *
QUADRANGLE_NAME "MOUNT BIDWELL" 3.45 or 7.5-min. name*
QUADRANT SW quadrant indicator if cell size = 3.75-minutes*
WEST_LONGITUDE -120 15 0.000 signed deg min sec SDDD MM SS.SSS*
EAST_LONGITUDE -120 11 15.000 signed deg min sec SDDD MM SS.SSS*
NORTH_LATITUDE 41 56 15.000 signed deg min sec SDDD MM SS.SSS*
SOUTH_LATITUDE 41 52 30.000 signed deg min sec SDDD MM SS.SSS*
PRODUCTION_DATE 2000 12 20 yyyy mm dd*
RASTER_ORDER LEFT_RIGHT/TOP_BOTTOM video display order*
BAND_ORGANIZATION "SINGLE FILE" single file or BSQ, or BIL or BIP*
BAND_CONTENT BLACK&WHITE black&white or red green blue*
BITS_PER_PIXEL 8 radiometric resolution*
SAMPLES_AND_LINES 6101 7727 number of columns and rows*
HORIZONTAL_DATUM NAD83 primary horizontal datum*
HORIZONTAL_COORDINATE_SYSTEM UTM *
COORDINATE_ZONE 10 coordinate system zone number*
HORIZONTAL_UNITS METERS coordinate system units*
HORIZONTAL_RESOLUTION 1.00 pixel horiz. ground sample distance*
SECONDARY_HORIZONTAL_DATUM NAD27 secondary horizontal datum*
XY_ORIGIN 727591.000 4646964.000 coord. of upper left pixel pri. datum*
SECONDARY_XY_ORIGIN 727685.167 4646765.831 coord upper left pixel sec datum*
NATION US nation code*
STATE CA state fip code*
NW_QUAD_CORNER_XY 727980.677 4646494.921 XY coords. of pri. NW quad corner*
NE_QUAD_CORNER_XY 733162.501 4646663.160 XY coords. of pri. NE quad corner*
SE_QUAD_CORNER_XY 733390.224 4639723.057 XY coords. of pri. SE quad corner*
SW_QUAD_CORNER_XY 728203.330 4639554.857 XY coords. of pri. SW quad corner*
SECONDARY_NW_QUAD_XY 727986.953 4646281.571 XY coords. - sec. NW quad cor.*
SECONDARY_NE_QUAD_XY 733168.919 4646449.815 XY coords. - sec. NE quad cor.*
SECONDARY_SE_QUAD_XY 733396.639 4639509.809 XY coords. - sec. SE quad cor.*
SECONDARY_SW_QUAD_XY 728209.603 4639341.605 XY coords. - sec. SW quad cor.*
RMSE_XY 2.70 doq horiz. accuracy*
IMAGE_SOURCE "BLACK AND WHITE FILM" b&w, cir, natural color, other*
SOURCE_IMAGE_ID "NAPP 10511 082" source image id*
SOURCE_IMAGE_DATE 1999 09 26 source image date as yyyy mm dd*
SOURCE_IMAGE_ID "NAPP 10511 081" source image id*
SOURCE_IMAGE_DATE 1999 09 26 source image date as yyyy mm dd*
SOURCE_IMAGE_ID "NAPP 10511 083" source image id*
SOURCE_IMAGE_DATE 1999 09 26 source image date as yyyy mm dd*
SOURCE_IMAGE_ID "NAPP 10511 088" source image id*
SOURCE_IMAGE_DATE 1999 09 26 source image date as yyyy mm dd*
SOURCE_DEM_DATE 2001 01 01 source dem date yyyy mm dd*
AGENCY "WESTERN MAPPING CENTER (WMC)" oversight agency*
PRODUCER "SCIENCE APPLICATIONS INTERNATIONAL" producer/contractor*
PRODUCTION_SYSTEM "GIS/MAGIC" production system*
STANDARD_VERSION 1996 12 version of DOQ standard*
METADATA_DATE 2001 01 02 date created or changed, yyyy mm dd*
DATA_FILE_SIZE 47148528 data set size in bytes*
BYTE_COUNT 6101 header byte count* * * * * * * * * * * * * * * * * * * * * * * * * * * *
END_USGS_HEADER *
