BEGIN_USGS_DOQ_HEADER *
QUADRANGLE_NAME "WILLOW RANCH" 3.45 or 7.5-min. name*
QUADRANT NE quadrant indicator if cell size = 3.75-minutes*
WEST_LONGITUDE -120 18 45.000 signed deg min sec SDDD MM SS.SSS*
EAST_LONGITUDE -120 15 0.000 signed deg min sec SDDD MM SS.SSS*
NORTH_LATITUDE 42 0 0.000 signed deg min sec SDDD MM SS.SSS*
SOUTH_LATITUDE 41 56 15.000 signed deg min sec SDDD MM SS.SSS*
PRODUCTION_DATE 2000 12 5 yyyy mm dd*
RASTER_ORDER LEFT_RIGHT/TOP_BOTTOM video display order*
BAND_ORGANIZATION "SINGLE FILE" single file or BSQ, or BIL or BIP*
BAND_CONTENT BLACK&WHITE black&white or red green blue*
BITS_PER_PIXEL 8 radiometric resolution*
SAMPLES_AND_LINES 6090 7723 number of columns and rows*
HORIZONTAL_DATUM NAD83 primary horizontal datum*
HORIZONTAL_COORDINATE_SYSTEM UTM *
COORDINATE_ZONE 10 coordinate system zone number*
HORIZONTAL_UNITS METERS coordinate system units*
HORIZONTAL_RESOLUTION 1.00 pixel horiz. ground sample distance*
SECONDARY_HORIZONTAL_DATUM NAD27 secondary horizontal datum*
XY_ORIGIN 722192.000 4653736.000 coord. of upper left pixel pri. datum*
SECONDARY_XY_ORIGIN 722286.103 4653537.857 coord upper left pixel sec datum*
NATION US nation code*
STATE CA state fip code*
STATE OR state fip code*
NW_QUAD_CORNER_XY 722581.031 4653270.552 XY coords. of pri. NW quad corner*
NE_QUAD_CORNER_XY 727757.751 4653435.043 XY coords. of pri. NE quad corner*
SE_QUAD_CORNER_XY 727980.677 4646494.921 XY coords. of pri. SE quad corner*
SW_QUAD_CORNER_XY 722798.882 4646330.469 XY coords. of pri. SW quad corner*
SECONDARY_NW_QUAD_XY 722587.167 4653057.102 XY coords. - sec. NW quad cor.*
SECONDARY_NE_QUAD_XY 727764.030 4653221.596 XY coords. - sec. NE quad cor.*
SECONDARY_SE_QUAD_XY 727986.953 4646281.571 XY coords. - sec. SE quad cor.*
SECONDARY_SW_QUAD_XY 722805.015 4646117.115 XY coords. - sec. SW quad cor.*
RMSE_XY 2.80 doq horiz. accuracy*
IMAGE_SOURCE "BLACK AND WHITE FILM" b&w, cir, natural color, other*
SOURCE_IMAGE_ID "NAPP 10506 002" source image id*
SOURCE_IMAGE_DATE 1998 08 24 source image date as yyyy mm dd*
SOURCE_DEM_DATE 2000 01 01 source dem date yyyy mm dd*
AGENCY "WESTERN MAPPING CENTER (WMC)" oversight agency*
PRODUCER "SCIENCE APPLICATIONS INTERNATIONAL" producer/contractor*
PRODUCTION_SYSTEM "GIS/MAGIC" production system*
STANDARD_VERSION 1996 12 version of DOQ standard*
METADATA_DATE 2000 12 07 date created or changed, yyyy mm dd*
DATA_FILE_SIZE 47039160 data set size in bytes*
BYTE_COUNT 6090 header byte count* * * * * * * * * * * * * * * * * * * * * * * * * * * * * * * * *
END_USGS_HEADER *
