BEGIN_USGS_DOQ_HEADER *
QUADRANGLE_NAME "PEASE FLAT" *
WEST_LONGITUDE -120 37 30.000 *
EAST_LONGITUDE -120 30 0.000 *
NORTH_LATITUDE 42 0 0.000 *
SOUTH_LATITUDE 41 52 30.000 *
PRODUCTION_DATE 2002 3 6 *
RASTER_ORDER LEFT_RIGHT/TOP_BOTTOM *
BAND_ORGANIZATION "SINGLE FILE" *
BAND_CONTENT BLACK&WHITE *
BITS_PER_PIXEL 8 *
SAMPLES_AND_LINES 11359 14775 *
HORIZONTAL_DATUM "NAD83" *
HORIZONTAL_COORDINATE_SYSTEM UTM *
COORDINATE_ZONE 10 *
HORIZONTAL_UNITS METERS *
HORIZONTAL_RESOLUTION 1.00 *
SECONDARY_HORIZONTAL_DATUM "NAD27" *
XY_ORIGIN 696397.498 4653099.503 *
SECONDARY_XY_ORIGIN 696491.439 4652901.285 *
NATION US *
STATE CA *
STATE OR *
NW_QUAD_CORNER_XY 696697.840 4652504.909 *
NE_QUAD_CORNER_XY 707051.038 4652799.806 *
SE_QUAD_CORNER_XY 707456.047 4638919.920 *
SW_QUAD_CORNER_XY 697082.571 4638625.161 *
SECONDARY_NW_QUAD_XY 696703.263 4652291.437 *
SECONDARY_NE_QUAD_XY 707056.746 4652586.343 *
SECONDARY_SE_QUAD_XY 707461.749 4638706.650 *
SECONDARY_SW_QUAD_XY 697087.988 4638411.883 *
RMSE_XY 10.00 *
IMAGE_SOURCE "BLACK & WHITE FILM" *
SOURCE_IMAGE_ID "NAPP 12244-97" *
SOURCE_IMAGE_DATE 2000 7 22 *
SOURCE_IMAGE_ID "NAPP 12244-90" *
SOURCE_IMAGE_DATE 2000 7 22 *
SOURCE_IMAGE_ID "NAPP 12244-92" *
SOURCE_IMAGE_DATE 2000 7 22 *
SOURCE_IMAGE_ID "NAPP 12244-95" *
SOURCE_IMAGE_DATE 2000 7 22 *
SOURCE_DEM_DATE 1999 1 1 *
AGENCY "WESTERN MAPPING CENTER (WMC)" *
PRODUCER "USDA FS REGION 6" *
PRODUCTION_SYSTEM "PIXMAP V1.0 ON I386 LINUX" *
STANDARD_VERSION 1996 12 *
METADATA_DATE 2002 11 22 *
DATA_FILE_SIZE 167840584 *
BYTE_COUNT 11359 * CONTRACTOR "PIXXURES, INC." * * * * * * * * * * * * * * * * * * * * * * * * * * * * * * * * * * * * * * * * * * * * * * * * * * * * * * * * * * * * * * * * * * * * * * * * * * * * * * * * * * * * * * * * * * * *
END_USGS_HEADER *
