BEGIN_USGS_DOQ_HEADER *
QUADRANGLE_NAME "BEAVER MOUNTAIN" *
WEST_LONGITUDE -120 45 0.000 *
EAST_LONGITUDE -120 37 30.000 *
NORTH_LATITUDE 42 0 0.000 *
SOUTH_LATITUDE 41 52 30.000 *
PRODUCTION_DATE 1999 09 30 *
RASTER_ORDER LEFT_RIGHT/TOP_BOTTOM *
BAND_ORGANIZATION "SINGLE FILE" *
BAND_CONTENT BLACK&WHITE *
BITS_PER_PIXEL 8 *
SAMPLES_AND_LINES 11338 14759 *
HORIZONTAL_DATUM NAD83 *
HORIZONTAL_COORDINATE_SYSTEM UTM *
COORDINATE_ZONE 10 *
HORIZONTAL_UNITS METERS *
HORIZONTAL_RESOLUTION 1.000000 *
SECONDARY_HORIZONTAL_DATUM NAD27 *
XY_ORIGIN 685956.467 4652789.168 *
SECONDARY_XY_ORIGIN 686050.400 4652590.900 *
NATION US *
STATE CA *
NW_QUAD_CORNER_XY 686344.742 4652225.154 *
NE_QUAD_CORNER_XY 696697.841 4652504.909 *
SE_QUAD_CORNER_XY 697082.572 4638625.162 *
SW_QUAD_CORNER_XY 686709.199 4638345.539 *
SECONDARY_NW_QUAD_XY 686349.879 4652011.675 *
SECONDARY_NE_QUAD_XY 696703.263 4652291.437 *
SECONDARY_SE_QUAD_XY 697087.988 4638411.884 *
SECONDARY_SW_QUAD_XY 686714.331 4638132.253 *
RMSE_XY 10.00 *
IMAGE_SOURCE "BLACK AND WHITE FILM" *
SOURCE_IMAGE_ID "NAPP 6211 47" *
SOURCE_IMAGE_DATE 1993 07 18 *
IMAGE_SOURCE "BLACK AND WHITE FILM" *
SOURCE_IMAGE_ID "NAPP 6211 44" *
SOURCE_IMAGE_DATE 1993 07 18 *
IMAGE_SOURCE "BLACK AND WHITE FILM" *
SOURCE_IMAGE_ID "NAPP 6211 49" *
SOURCE_IMAGE_DATE 1993 07 18 *
IMAGE_SOURCE "BLACK AND WHITE FILM" *
SOURCE_IMAGE_ID "NAPP 6211 42" *
SOURCE_IMAGE_DATE 1993 07 18 *
SOURCE_DEM_DATE 1980 00 00 *
AGENCY "WESTERN MAPPING CENTER (WMC)" *
PRODUCER "USDA FS REGION 6" *
PRODUCTION_SYSTEM "INTERGRAPH MODEL_SETUP, BASE_RECTIFIER" *
STANDARD_VERSION 1996 12 *
METADATA_DATE 1999 09 30 *
DATA_FILE_SIZE 167348880 *
BYTE_COUNT 11338 * * * * * * * * * * * * * * * * * * * * * * * * * * * * * * * * * * * * * * * * * * * * * * * * * * * * * * * * * * * * * * * * * * * * * * * * * * * * * * * * * * * * * * * * * * *
END_USGS_HEADER *
