BEGIN_USGS_DOQ_HEADER *
QUADRANGLE_NAME "WEED VALLEY" 3.45 or 7.5-min. name*
QUADRANT NW quadrant indicator if cell size = 3.75-minutes*
WEST_LONGITUDE -120 52 30.000 signed deg min sec SDDD MM SS.SSS*
EAST_LONGITUDE -120 48 45.000 signed deg min sec SDDD MM SS.SSS*
NORTH_LATITUDE 42 0 0.000 signed deg min sec SDDD MM SS.SSS*
SOUTH_LATITUDE 41 56 15.000 signed deg min sec SDDD MM SS.SSS*
PRODUCTION_DATE 2000 12 5 yyyy mm dd*
RASTER_ORDER LEFT_RIGHT/TOP_BOTTOM video display order*
BAND_ORGANIZATION "SINGLE FILE" single file or BSQ, or BIL or BIP*
BAND_CONTENT BLACK&WHITE black&white or red green blue*
BITS_PER_PIXEL 8 radiometric resolution*
SAMPLES_AND_LINES 6046 7688 number of columns and rows*
HORIZONTAL_DATUM NAD83 primary horizontal datum*
HORIZONTAL_COORDINATE_SYSTEM UTM *
COORDINATE_ZONE 10 coordinate system zone number*
HORIZONTAL_UNITS METERS coordinate system units*
HORIZONTAL_RESOLUTION 1.00 pixel horiz. ground sample distance*
SECONDARY_HORIZONTAL_DATUM NAD27 secondary horizontal datum*
XY_ORIGIN 675601.000 4652391.000 coord. of upper left pixel pri. datum*
SECONDARY_XY_ORIGIN 675695.157 4652192.758 coord upper left pixel sec datum*
NATION US nation code*
STATE CA state fip code*
STATE OR state fip code*
NW_QUAD_CORNER_XY 675991.738 4651960.538 XY coords. of pri. NW quad corner*
NE_QUAD_CORNER_XY 681168.229 4652090.954 XY coords. of pri. NE quad corner*
SE_QUAD_CORNER_XY 681345.498 4645151.145 XY coords. of pri. SE quad corner*
SW_QUAD_CORNER_XY 676163.937 4645020.760 XY coords. of pri. SW quad corner*
SECONDARY_NW_QUAD_XY 675996.589 4651747.051 XY coords. - sec. NW quad cor.*
SECONDARY_NE_QUAD_XY 681173.223 4651877.470 XY coords. - sec. NE quad cor.*
SECONDARY_SE_QUAD_XY 681350.489 4644937.759 XY coords. - sec. SE quad cor.*
SECONDARY_SW_QUAD_XY 676168.785 4644807.370 XY coords. - sec. SW quad cor.*
RMSE_XY 1.60 doq horiz. accuracy*
IMAGE_SOURCE "BLACK AND WHITE FILM" b&w, cir, natural color, other*
SOURCE_IMAGE_ID "NAPP 10497 170" source image id*
SOURCE_IMAGE_DATE 1998 08 03 source image date as yyyy mm dd*
SOURCE_DEM_DATE 2000 01 01 source dem date yyyy mm dd*
AGENCY "WESTERN MAPPING CENTER (WMC)" oversight agency*
PRODUCER "SCIENCE APPLICATIONS INTERNATIONAL" producer/contractor*
PRODUCTION_SYSTEM "GIS/MAGIC" production system*
STANDARD_VERSION 1996 12 version of DOQ standard*
METADATA_DATE 2000 12 07 date created or changed, yyyy mm dd*
DATA_FILE_SIZE 46487694 data set size in bytes*
BYTE_COUNT 6046 header byte count* * * * * * * * * * * * * * * * * * * * * * * * * * * * * * * *
END_USGS_HEADER *
