BEGIN_USGS_DOQ_HEADER *
QUADRANGLE_NAME "FALL RIVER MILLS" 3.45 or 7.5-min. name*
QUADRANT NW quadrant indicator if cell size = 3.75-minutes*
WEST_LONGITUDE -121 30 0.000 signed deg min sec SDDD MM SS.SSS*
EAST_LONGITUDE -121 26 15.000 signed deg min sec SDDD MM SS.SSS*
NORTH_LATITUDE 41 7 30.000 signed deg min sec SDDD MM SS.SSS*
SOUTH_LATITUDE 41 3 45.000 signed deg min sec SDDD MM SS.SSS*
PRODUCTION_DATE 2000 6 27 yyyy mm dd*
RASTER_ORDER left_right/top_bottom video display order*
BAND_ORGANIZATION "single file" single file or BSQ, or BIL or BIP*
BAND_CONTENT BLACK&WHITE black&white or red green blue*
BITS_PER_PIXEL 8 radiometric resolution*
SAMPLES_AND_LINES 6074 7656 number of columns and rows*
HORIZONTAL_DATUM NAD83 primary horizontal datum*
HORIZONTAL_COORDINATE_SYSTEM UTM *
COORDINATE_ZONE 10 coordinate system zone number*
HORIZONTAL_UNITS meters coordinate system units*
HORIZONTAL_RESOLUTION 1.00 pixel horiz. ground sample distance*
SECONDARY_HORIZONTAL_DATUM NAD27 secondary horizontal datum*
XY_ORIGIN 625518.000 4554115.000 coord. of upper left pixel pri. datum*
SECONDARY_XY_ORIGIN 625613.187 4553917.295 coord upper left pixel sec datum*
NATION US nation code*
STATE CA state fip code*
NW_QUAD_CORNER_XY 625915.633 4553717.580 XY coords. of pri. NW quad corner*
NE_QUAD_CORNER_XY 631162.292 4553809.825 XY coords. of pri. NE quad corner*
SE_QUAD_CORNER_XY 631286.696 4546871.263 XY coords. of pri. SE quad corner*
SW_QUAD_CORNER_XY 626035.058 4546779.046 XY coords. of pri. SW quad corner*
SECONDARY_NW_QUAD_XY 625919.032 4553505.492 XY coords. - sec. NW quad cor.*
SECONDARY_NE_QUAD_XY 631165.833 4553597.739 XY coords. - sec. NE quad cor.*
SECONDARY_SE_QUAD_XY 631290.235 4546659.285 XY coords. - sec. SE quad cor.*
SECONDARY_SW_QUAD_XY 626038.455 4546567.066 XY coords. - sec. SW quad cor.*
RMSE_XY 2.99 doq horiz. accuracy*
IMAGE_SOURCE "BLACK AND WHITE FILM" b&w, cir, natural color, other*
SOURCE_IMAGE_ID "NAPP 10508-208" source image id*
SOURCE_IMAGE_DATE 1998 9 13 source image date as yyyy mm dd*
SOURCE_DEM_DATE 1997 6 1 source dem date yyyy mm dd*
AGENCY "WESTERN MAPPING CENTER (WMC)" oversight agency*
PRODUCER "WOOLPERT LLP" producer/contractor*
PRODUCTION_SYSTEM "INTERGRAPH ISPM, ISIR" production system*
STANDARD_VERSION 1996 12 version of DOQ standard*
METADATA_DATE 2000 6 27 date created or changed, yyyy mm dd*
DATA_FILE_SIZE 46508618 data set size in bytes*
BYTE_COUNT 6074 header byte count* * * * * * * * * * * * * * * * * * * * * * * * * * * * * * * * *
END_USGS_HEADER *
