BEGIN_USGS_DOQ_HEADER *
QUADRANGLE_NAME "FALL RIVER MILLS" 3.45 or 7.5-min. name*
QUADRANT SE quadrant indicator if cell size = 3.75-minutes*
WEST_LONGITUDE -121 26 15.000 signed deg min sec SDDD MM SS.SSS*
EAST_LONGITUDE -121 22 30.000 signed deg min sec SDDD MM SS.SSS*
NORTH_LATITUDE 41 3 45.000 signed deg min sec SDDD MM SS.SSS*
SOUTH_LATITUDE 41 0 0.000 signed deg min sec SDDD MM SS.SSS*
PRODUCTION_DATE 2000 6 27 yyyy mm dd*
RASTER_ORDER LEFT_RIGHT/TOP_BOTTOM video display order*
BAND_ORGANIZATION "SINGLE FILE" single file or BSQ, or BIL or BIP*
BAND_CONTENT BLACK&WHITE black&white or red green blue*
BITS_PER_PIXEL 8 radiometric resolution*
SAMPLES_AND_LINES 6083 7660 number of columns and rows*
HORIZONTAL_DATUM NAD83 primary horizontal datum*
HORIZONTAL_COORDINATE_SYSTEM UTM *
COORDINATE_ZONE 10 coordinate system zone number*
HORIZONTAL_UNITS METERS coordinate system units*
HORIZONTAL_RESOLUTION 1.00 pixel horiz. ground sample distance*
SECONDARY_HORIZONTAL_DATUM NAD27 secondary horizontal datum*
XY_ORIGIN 630890.000 4547273.000 coord. of upper left pixel pri. datum*
SECONDARY_XY_ORIGIN 630985.137 4547075.390 coord upper left pixel sec datum*
NATION US nation code*
STATE CA state fip code*
NW_QUAD_CORNER_XY 631286.696 4546871.263 XY coords. of pri. NW quad corner*
NE_QUAD_CORNER_XY 636538.356 4546967.246 XY coords. of pri. NE quad corner*
SE_QUAD_CORNER_XY 636667.576 4540028.724 XY coords. of pri. SE quad corner*
SW_QUAD_CORNER_XY 631410.943 4539932.771 XY coords. of pri. SW quad corner*
SECONDARY_NW_QUAD_XY 631290.235 4546659.285 XY coords. - sec. NW quad cor.*
SECONDARY_NE_QUAD_XY 636542.036 4546755.271 XY coords. - sec. NE quad cor.*
SECONDARY_SE_QUAD_XY 636671.255 4539816.859 XY coords. - sec. SE quad cor.*
SECONDARY_SW_QUAD_XY 631414.480 4539720.902 XY coords. - sec. SW quad cor.*
RMSE_XY 3.24 doq horiz. accuracy*
IMAGE_SOURCE "BLACK AND WHITE FILM" b&w, cir, natural color, other*
SOURCE_IMAGE_ID "NAPP 10504-014" source image id*
SOURCE_IMAGE_DATE 1998 8 22 source image date as yyyy mm dd*
SOURCE_DEM_DATE 1997 6 1 source dem date yyyy mm dd*
AGENCY "WESTERN MAPPING CENTER (WMC)" agency or agency & contractor*
PRODUCER "WOOLPERT LLP" producer*
PRODUCTION_SYSTEM "INTERGRAPH ISPM, ISIR" production system*
STANDARD_VERSION 1996 12 version of DOQ standard*
METADATA_DATE 2000 6 28 date created or changed, yyyy mm dd*
DATA_FILE_SIZE 46601863 data set size in bytes*
BYTE_COUNT 6083 header byte count* * * * * * * * * * * * * * * * * * * * * * * * * * * * * * * * * *
END_USGS_HEADER *
