BEGIN_USGS_DOQ_HEADER *
QUADRANGLE_NAME "BIG BEND" *
QUADRANT NE *
WEST_LONGITUDE -121 56 15.000 *
EAST_LONGITUDE -121 52 30.000 *
NORTH_LATITUDE 41 7 30.000 *
SOUTH_LATITUDE 41 3 45.000 *
PRODUCTION_DATE 2001 4 26 *
RASTER_ORDER LEFT_RIGHT/TOP_BOTTOM *
BAND_ORGANIZATION "SINGLE FILE" *
BAND_CONTENT BLACK&WHITE *
BITS_PER_PIXEL 8 *
SAMPLES_AND_LINES 6029 7619 *
HORIZONTAL_DATUM NAD83 *
HORIZONTAL_COORDINATE_SYSTEM UTM *
COORDINATE_ZONE 10 *
HORIZONTAL_UNITS METERS *
HORIZONTAL_RESOLUTION 1.0 *
SECONDARY_HORIZONTAL_DATUM NAD27 *
XY_ORIGIN 588797.139 4553542.714 *
SECONDARY_XY_ORIGIN 588892.453 4553344.984 *
NATION US *
STATE CA *
NW_QUAD_CORNER_XY 589189.545 4553177.334 *
NE_QUAD_CORNER_XY 594436.079 4553243.214 *
SE_QUAD_CORNER_XY 594525.637 4546304.823 *
SW_QUAD_CORNER_XY 589274.126 4546238.963 *
SECONDARY_NW_QUAD_XY 589191.955 4552965.233 *
SECONDARY_NE_QUAD_XY 594438.631 4553031.114 *
SECONDARY_SE_QUAD_XY 594528.187 4546092.832 *
SECONDARY_SW_QUAD_XY 589276.536 4546026.970 *
RMSE_XY 2.36 *
IMAGE_SOURCE "BLACK AND WHITE FILM" *
SOURCE_IMAGE_ID "NAPP 10502 61" *
SOURCE_IMAGE_DATE 1998 8 17 *
SOURCE_IMAGE_ID "NAPP 10502 62" *
SOURCE_IMAGE_DATE 1998 8 17 *
SOURCE_IMAGE_ID "NAPP 10508 71" *
SOURCE_IMAGE_DATE 1998 9 13 *
SOURCE_IMAGE_ID "NAPP 10510 40" *
SOURCE_IMAGE_DATE 1998 9 14 *
SOURCE_IMAGE_ID "NAPP 10510 41" *
SOURCE_IMAGE_DATE 1998 9 14 *
SOURCE_IMAGE_ID "NAPP 10510 42" *
SOURCE_IMAGE_DATE 1998 9 14 *
SOURCE_DEM_DATE 2000 0 0 *
AGENCY "WESTERN MAPPING CENTER (WMC)" *
PRODUCER "USDA FS GEOSPATIAL SERVICE AND TECHNOLOGY CENTER" *
PRODUCTION_SYSTEM "ORBIT OR_RECTIFY V.5.2" *
STANDARD_VERSION 1996 12 *
METADATA_DATE 2001 5 16 *
DATA_FILE_SIZE 45940980 *
BYTE_COUNT 6029 * * * * * * * * * * * * * * * * * * * * * * *
END_USGS_HEADER *
