BEGIN_USGS_DOQ_HEADER *
QUADRANGLE_NAME "TIMBERED CRATER" 3.45 or 7.5-min. name*
QUADRANT NE quadrant indicator if cell size = 3.75-minutes*
WEST_LONGITUDE -121 26 15.000 signed deg min sec SDDD MM SS.SSS*
EAST_LONGITUDE -121 22 30.000 signed deg min sec SDDD MM SS.SSS*
NORTH_LATITUDE 41 15 0.000 signed deg min sec SDDD MM SS.SSS*
SOUTH_LATITUDE 41 11 15.000 signed deg min sec SDDD MM SS.SSS*
PRODUCTION_DATE 2000 6 27 yyyy mm dd*
RASTER_ORDER left_right/top_bottom video display order*
BAND_ORGANIZATION "single file" single file or BSQ, or BIL or BIP*
BAND_CONTENT BLACK&WHITE black&white or red green blue*
BITS_PER_PIXEL 8 radiometric resolution*
SAMPLES_AND_LINES 6069 7660 number of columns and rows*
HORIZONTAL_DATUM NAD83 primary horizontal datum*
HORIZONTAL_COORDINATE_SYSTEM UTM *
COORDINATE_ZONE 10 coordinate system zone number*
HORIZONTAL_UNITS meters coordinate system units*
HORIZONTAL_RESOLUTION 1.00 pixel horiz. ground sample distance*
SECONDARY_HORIZONTAL_DATUM NAD27 secondary horizontal datum*
XY_ORIGIN 630516.000 4568089.000 coord. of upper left pixel pri. datum*
SECONDARY_XY_ORIGIN 630611.172 4567891.099 coord upper left pixel sec datum*
NATION US nation code*
STATE CA state fip code*
NW_QUAD_CORNER_XY 630913.014 4567687.159 XY coords. of pri. NW quad corner*
NE_QUAD_CORNER_XY 636149.717 4567783.227 XY coords. of pri. NE quad corner*
SE_QUAD_CORNER_XY 636279.426 4560844.497 XY coords. of pri. SE quad corner*
SW_QUAD_CORNER_XY 631037.731 4560748.457 XY coords. of pri. SW quad corner*
SECONDARY_NW_QUAD_XY 630916.559 4567474.859 XY coords. - sec. NW quad cor.*
SECONDARY_NE_QUAD_XY 636153.404 4567570.930 XY coords. - sec. NE quad cor.*
SECONDARY_SE_QUAD_XY 636283.111 4560632.307 XY coords. - sec. SE quad cor.*
SECONDARY_SW_QUAD_XY 631041.274 4560536.264 XY coords. - sec. SW quad cor.*
RMSE_XY 4.25 doq horiz. accuracy*
IMAGE_SOURCE "BLACK AND WHITE FILM" b&w, cir, natural color, other*
SOURCE_IMAGE_ID "NAPP 10504-020" source image id*
SOURCE_IMAGE_DATE 1998 8 22 source image date as yyyy mm dd*
SOURCE_DEM_DATE 1995 11 1 source dem date yyyy mm dd*
AGENCY "WESTERN MAPPING CENTER (WMC)" oversight agency*
PRODUCER "WOOLPERT LLP" producer/contractor*
PRODUCTION_SYSTEM "INTERGRAPH ISPM, ISIR" production system*
STANDARD_VERSION 1996 12 version of DOQ standard*
METADATA_DATE 2000 6 27 date created or changed, yyyy mm dd*
DATA_FILE_SIZE 46494609 data set size in bytes*
BYTE_COUNT 6069 header byte count* * * * * * * * * * * * * * * * * * * * * * * * * * * * * * * * *
END_USGS_HEADER *
