BEGIN_USGS_DOQ_HEADER *
QUADRANGLE_NAME "DEAD HORSE SUMMIT" 3.45 or 7.5-min. name*
QUADRANT NE quadrant indicator if cell size = 3.75-minutes*
WEST_LONGITUDE -121 48 45.000 signed deg min sec SDDD MM SS.SSS*
EAST_LONGITUDE -121 45 0.000 signed deg min sec SDDD MM SS.SSS*
NORTH_LATITUDE 41 15 0.000 signed deg min sec SDDD MM SS.SSS*
SOUTH_LATITUDE 41 11 15.000 signed deg min sec SDDD MM SS.SSS*
PRODUCTION_DATE 2000 12 1 yyyy mm dd*
RASTER_ORDER LEFT_RIGHT/TOP_BOTTOM video display order*
BAND_ORGANIZATION "SINGLE FILE" single file or BSQ, or BIL or BIP*
BAND_CONTENT BLACK&WHITE black&white or red green blue*
BITS_PER_PIXEL 8 radiometric resolution*
SAMPLES_AND_LINES 6032 7630 number of columns and rows*
HORIZONTAL_DATUM NAD83 primary horizontal datum*
HORIZONTAL_COORDINATE_SYSTEM UTM *
COORDINATE_ZONE 10 coordinate system zone number*
HORIZONTAL_UNITS METERS coordinate system units*
HORIZONTAL_RESOLUTION 1.00 pixel horiz. ground sample distance*
SECONDARY_HORIZONTAL_DATUM NAD27 secondary horizontal datum*
XY_ORIGIN 599099.000 4567564.000 coord. of upper left pixel pri. datum*
SECONDARY_XY_ORIGIN 599194.269 4567366.011 coord upper left pixel sec datum*
NATION US nation code*
STATE CA state fip code*
NW_QUAD_CORNER_XY 599493.200 4567189.900 XY coords. of pri. NW quad corner*
NE_QUAD_CORNER_XY 604729.792 4567263.354 XY coords. of pri. NE quad corner*
SE_QUAD_CORNER_XY 604829.555 4560324.777 XY coords. of pri. SE quad corner*
SW_QUAD_CORNER_XY 599587.974 4560251.343 XY coords. of pri. SW quad corner*
SECONDARY_NW_QUAD_XY 599495.894 4566977.586 XY coords. - sec. NW quad cor.*
SECONDARY_NE_QUAD_XY 604732.628 4567051.043 XY coords. - sec. NE quad cor.*
SECONDARY_SE_QUAD_XY 604832.389 4560112.572 XY coords. - sec. SE quad cor.*
SECONDARY_SW_QUAD_XY 599590.666 4560039.136 XY coords. - sec. SW quad cor.*
RMSE_XY 2.10 doq horiz. accuracy*
IMAGE_SOURCE "BLACK AND WHITE FILM" b&w, cir, natural color, other*
SOURCE_IMAGE_ID "NAPP 10501 144" source image id*
SOURCE_IMAGE_DATE 1998 08 13 source image date as yyyy mm dd*
SOURCE_IMAGE_ID "NAPP 10501 143" source image id*
SOURCE_IMAGE_DATE 1998 08 13 source image date as yyyy mm dd*
SOURCE_DEM_DATE 2000 01 01 source dem date yyyy mm dd*
AGENCY "WESTERN MAPPING CENTER (WMC)" oversight agency*
PRODUCER "SCIENCE APPLICATIONS INTERNATIONAL" producer/contractor*
PRODUCTION_SYSTEM "GIS/MAGIC" production system*
STANDARD_VERSION 1996 12 version of DOQ standard*
METADATA_DATE 2000 12 07 date created or changed, yyyy mm dd*
DATA_FILE_SIZE 46030192 data set size in bytes*
BYTE_COUNT 6032 header byte count* * * * * * * * * * * * * * * * * * * * * * * * * * * * * * *
END_USGS_HEADER *
