BEGIN_USGS_DOQ_HEADER *
QUADRANGLE_NAME "GRIZZLY PEAK" 3.45 or 7.5-min. name*
QUADRANT NE quadrant indicator if cell size = 3.75-minutes*
WEST_LONGITUDE -121 56 15.000 signed deg min sec SDDD MM SS.SSS*
EAST_LONGITUDE -121 52 30.000 signed deg min sec SDDD MM SS.SSS*
NORTH_LATITUDE 41 15 0.000 signed deg min sec SDDD MM SS.SSS*
SOUTH_LATITUDE 41 11 15.000 signed deg min sec SDDD MM SS.SSS*
PRODUCTION_DATE 1996 12 16 yyyy mm dd*
RASTER_ORDER LEFT_RIGHT/TOP_BOTTOM video display order*
BAND_ORGANIZATION "SINGLE FILE" single file or BSQ, or BIL or BIP*
BAND_CONTENT BLACK&WHITE black&white or red green blue*
BITS_PER_PIXEL 8 radiometric resolution*
SAMPLES_AND_LINES 6022 7622 number of columns and rows*
HORIZONTAL_DATUM NAD83 primary horizontal datum*
HORIZONTAL_COORDINATE_SYSTEM UTM *
COORDINATE_ZONE 10 coordinate system zone number*
HORIZONTAL_UNITS METERS coordinate system units*
HORIZONTAL_RESOLUTION 1.00 pixel horiz. ground sample distance*
SECONDARY_HORIZONTAL_DATUM NAD27 secondary horizontal datum*
XY_ORIGIN 588626.000 4567421.000 coord. of upper left pixel pri. datum*
SECONDARY_XY_ORIGIN 588721.208 4567222.921 coord upper left pixel sec datum*
NATION US nation code*
STATE CA state fip code*
NW_QUAD_CORNER_XY 589020.063 4567054.295 XY coords. of pri. NW quad corner*
NE_QUAD_CORNER_XY 594256.624 4567120.213 XY coords. of pri. NE quad corner*
SE_QUAD_CORNER_XY 594346.408 4560181.677 XY coords. of pri. SE quad corner*
SW_QUAD_CORNER_XY 589104.857 4560115.778 XY coords. of pri. SW quad corner*
SECONDARY_NW_QUAD_XY 589022.474 4566841.977 XY coords. - sec. NW quad cor.*
SECONDARY_NE_QUAD_XY 594259.176 4566907.898 XY coords. - sec. NE quad cor.*
SECONDARY_SE_QUAD_XY 594348.959 4559969.468 XY coords. - sec. SE quad cor.*
SECONDARY_SW_QUAD_XY 589107.266 4559903.567 XY coords. - sec. SW quad cor.*
RMSE_XY 2.10 doq horiz. accuracy*
IMAGE_SOURCE "BLACK AND WHITE FILM" b&w, cir, natural color, other*
SOURCE_IMAGE_ID "NAPP 6222 103" source image id*
SOURCE_IMAGE_DATE 1993 8 27 source image date as yyyy mm dd*
SOURCE_DEM_DATE 1996 12 16 source dem date yyyy mm dd*
AGENCY "WESTERN MAPPING CENTER (WMC)" oversight agency*
PRODUCER "Science Applications International" producer/contractor*
PRODUCTION_SYSTEM "GIS/MAGIC" production system*
STANDARD_VERSION 1996 12 version of DOQ standard*
METADATA_DATE 1997 10 29 date created or changed, yyyy mm dd*
DATA_FILE_SIZE 45905706 data set size in bytes*
BYTE_COUNT 6022 header byte count* * * * * * * * * * * * * * * * * * * * * * * * * * * * * * * * *
END_USGS_HEADER *
