BEGIN_USGS_DOQ_HEADER *
QUADRANGLE_NAME "HAMBONE" 3.45 or 7.5-min. name*
QUADRANT NW quadrant indicator if cell size = 3.75-minutes*
WEST_LONGITUDE -121 45 0.000 signed deg min sec SDDD MM SS.SSS*
EAST_LONGITUDE -121 41 15.000 signed deg min sec SDDD MM SS.SSS*
NORTH_LATITUDE 41 22 30.000 signed deg min sec SDDD MM SS.SSS*
SOUTH_LATITUDE 41 18 45.000 signed deg min sec SDDD MM SS.SSS*
PRODUCTION_DATE 2000 12 5 yyyy mm dd*
RASTER_ORDER LEFT_RIGHT/TOP_BOTTOM video display order*
BAND_ORGANIZATION "SINGLE FILE" single file or BSQ, or BIL or BIP*
BAND_CONTENT BLACK&WHITE black&white or red green blue*
BITS_PER_PIXEL 8 radiometric resolution*
SAMPLES_AND_LINES 6027 7633 number of columns and rows*
HORIZONTAL_DATUM NAD83 primary horizontal datum*
HORIZONTAL_COORDINATE_SYSTEM UTM *
COORDINATE_ZONE 10 coordinate system zone number*
HORIZONTAL_UNITS METERS coordinate system units*
HORIZONTAL_RESOLUTION 1.00 pixel horiz. ground sample distance*
SECONDARY_HORIZONTAL_DATUM NAD27 secondary horizontal datum*
XY_ORIGIN 604136.000 4581518.000 coord. of upper left pixel pri. datum*
SECONDARY_XY_ORIGIN 604231.331 4581320.040 coord upper left pixel sec datum*
NATION US nation code*
STATE CA state fip code*
NW_QUAD_CORNER_XY 604529.890 4581140.726 XY coords. of pri. NW quad corner*
NE_QUAD_CORNER_XY 609756.499 4581217.993 XY coords. of pri. NE quad corner*
SE_QUAD_CORNER_XY 609861.515 4574279.250 XY coords. of pri. SE quad corner*
SW_QUAD_CORNER_XY 604629.904 4574202.004 XY coords. of pri. SW quad corner*
SECONDARY_NW_QUAD_XY 604532.729 4580928.204 XY coords. - sec. NW quad cor.*
SECONDARY_NE_QUAD_XY 609759.480 4581005.473 XY coords. - sec. NE quad cor.*
SECONDARY_SE_QUAD_XY 609864.494 4574066.834 XY coords. - sec. SE quad cor.*
SECONDARY_SW_QUAD_XY 604632.741 4573989.587 XY coords. - sec. SW quad cor.*
RMSE_XY 0.90 doq horiz. accuracy*
IMAGE_SOURCE "BLACK AND WHITE FILM" b&w, cir, natural color, other*
SOURCE_IMAGE_ID "NAPP 10500 186" source image id*
SOURCE_IMAGE_DATE 1998 08 12 source image date as yyyy mm dd*
SOURCE_DEM_DATE 2000 01 01 source dem date yyyy mm dd*
AGENCY "WESTERN MAPPING CENTER (WMC)" oversight agency*
PRODUCER "SCIENCE APPLICATIONS INTERNATIONAL" producer/contractor*
PRODUCTION_SYSTEM "GIS/MAGIC" production system*
STANDARD_VERSION 1996 12 version of DOQ standard*
METADATA_DATE 2000 12 07 date created or changed, yyyy mm dd*
DATA_FILE_SIZE 46010118 data set size in bytes*
BYTE_COUNT 6027 header byte count* * * * * * * * * * * * * * * * * * * * * * * * * * * * * * * * *
END_USGS_HEADER *
