BEGIN_USGS_DOQ_HEADER *
QUADRANGLE_NAME "HAPPY CAMP MOUNTAIN" 3.45 or 7.5-min. name*
QUADRANT NE quadrant indicator if cell size = 3.75-minutes*
WEST_LONGITUDE -121 3 45.000 signed deg min sec SDDD MM SS.SSS*
EAST_LONGITUDE -121 0 0.000 signed deg min sec SDDD MM SS.SSS*
NORTH_LATITUDE 41 30 0.000 signed deg min sec SDDD MM SS.SSS*
SOUTH_LATITUDE 41 26 15.000 signed deg min sec SDDD MM SS.SSS*
PRODUCTION_DATE 2000 11 30 yyyy mm dd*
RASTER_ORDER LEFT_RIGHT/TOP_BOTTOM video display order*
BAND_ORGANIZATION "SINGLE FILE" single file or BSQ, or BIL or BIP*
BAND_CONTENT BLACK&WHITE black&white or red green blue*
BITS_PER_PIXEL 8 radiometric resolution*
SAMPLES_AND_LINES 6071 7676 number of columns and rows*
HORIZONTAL_DATUM NAD83 primary horizontal datum*
HORIZONTAL_COORDINATE_SYSTEM UTM *
COORDINATE_ZONE 10 coordinate system zone number*
HORIZONTAL_UNITS METERS coordinate system units*
HORIZONTAL_RESOLUTION 1.00 pixel horiz. ground sample distance*
SECONDARY_HORIZONTAL_DATUM NAD27 secondary horizontal datum*
XY_ORIGIN 661321.000 4596496.000 coord. of upper left pixel pri. datum*
SECONDARY_XY_ORIGIN 661415.646 4596297.791 coord upper left pixel sec datum*
NATION US nation code*
STATE CA state fip code*
NW_QUAD_CORNER_XY 661712.934 4596076.342 XY coords. of pri. NW quad corner*
NE_QUAD_CORNER_XY 666929.738 4596195.167 XY coords. of pri. NE quad corner*
SE_QUAD_CORNER_XY 667090.207 4589255.980 XY coords. of pri. SE quad corner*
SW_QUAD_CORNER_XY 661868.383 4589137.187 XY coords. of pri. SW quad corner*
SECONDARY_NW_QUAD_XY 661717.339 4595863.641 XY coords. - sec. NW quad cor.*
SECONDARY_NE_QUAD_XY 666934.285 4595982.469 XY coords. - sec. NE quad cor.*
SECONDARY_SE_QUAD_XY 667094.752 4589043.385 XY coords. - sec. SE quad cor.*
SECONDARY_SW_QUAD_XY 661872.786 4588924.589 XY coords. - sec. SW quad cor.*
RMSE_XY 2.70 doq horiz. accuracy*
IMAGE_SOURCE "BLACK AND WHITE FILM" b&w, cir, natural color, other*
SOURCE_IMAGE_ID "NAPP 10507 314" source image id*
SOURCE_IMAGE_DATE 1998 08 25 source image date as yyyy mm dd*
SOURCE_DEM_DATE 2000 01 01 source dem date yyyy mm dd*
AGENCY "WESTERN MAPPING CENTER (WMC)" oversight agency*
PRODUCER "SCIENCE APPLICATIONS INTERNATIONAL" producer/contractor*
PRODUCTION_SYSTEM "GIS/MAGIC" production system*
STANDARD_VERSION 1996 12 version of DOQ standard*
METADATA_DATE 2000 12 08 date created or changed, yyyy mm dd*
DATA_FILE_SIZE 46607067 data set size in bytes*
BYTE_COUNT 6071 header byte count* * * * * * * * * * * * * * * * * * * * * * * * * * * * * * * * *
END_USGS_HEADER *
