BEGIN_USGS_DOQ_HEADER *
QUADRANGLE_NAME "SNAG HILL" 3.45 or 7.5-min. name*
QUADRANT NW quadrant indicator if cell size = 3.75-minutes*
WEST_LONGITUDE -121 45 0.000 signed deg min sec SDDD MM SS.SSS*
EAST_LONGITUDE -121 41 15.000 signed deg min sec SDDD MM SS.SSS*
NORTH_LATITUDE 41 30 0.000 signed deg min sec SDDD MM SS.SSS*
SOUTH_LATITUDE 41 26 15.000 signed deg min sec SDDD MM SS.SSS*
PRODUCTION_DATE 2000 12 5 yyyy mm dd*
RASTER_ORDER LEFT_RIGHT/TOP_BOTTOM video display order*
BAND_ORGANIZATION "SINGLE FILE" single file or BSQ, or BIL or BIP*
BAND_CONTENT BLACK&WHITE black&white or red green blue*
BITS_PER_PIXEL 8 radiometric resolution*
SAMPLES_AND_LINES 6018 7634 number of columns and rows*
HORIZONTAL_DATUM NAD83 primary horizontal datum*
HORIZONTAL_COORDINATE_SYSTEM UTM *
COORDINATE_ZONE 10 coordinate system zone number*
HORIZONTAL_UNITS METERS coordinate system units*
HORIZONTAL_RESOLUTION 1.00 pixel horiz. ground sample distance*
SECONDARY_HORIZONTAL_DATUM NAD27 secondary horizontal datum*
XY_ORIGIN 603935.000 4595396.000 coord. of upper left pixel pri. datum*
SECONDARY_XY_ORIGIN 604030.366 4595198.024 coord upper left pixel sec datum*
NATION US nation code*
STATE CA state fip code*
NW_QUAD_CORNER_XY 604329.488 4595018.386 XY coords. of pri. NW quad corner*
NE_QUAD_CORNER_XY 609546.073 4595095.696 XY coords. of pri. NE quad corner*
SE_QUAD_CORNER_XY 609651.352 4588156.809 XY coords. of pri. SE quad corner*
SW_QUAD_CORNER_XY 604429.752 4588079.520 XY coords. of pri. SW quad corner*
SECONDARY_NW_QUAD_XY 604332.330 4594805.656 XY coords. - sec. NW quad cor.*
SECONDARY_NE_QUAD_XY 609549.057 4594882.968 XY coords. - sec. NE quad cor.*
SECONDARY_SE_QUAD_XY 609654.334 4587944.184 XY coords. - sec. SE quad cor.*
SECONDARY_SW_QUAD_XY 604432.592 4587866.894 XY coords. - sec. SW quad cor.*
RMSE_XY 1.60 doq horiz. accuracy*
IMAGE_SOURCE "BLACK AND WHITE FILM" b&w, cir, natural color, other*
SOURCE_IMAGE_ID "NAPP 10500 182" source image id*
SOURCE_IMAGE_DATE 1998 08 12 source image date as yyyy mm dd*
SOURCE_DEM_DATE 1956 00 00 source dem date yyyy mm dd*
AGENCY "WESTERN MAPPING CENTER (WMC)" oversight agency*
PRODUCER "SCIENCE APPLICATIONS INTERNATIONAL" producer/contractor*
PRODUCTION_SYSTEM "GIS/MAGIC" production system*
STANDARD_VERSION 1996 12 version of DOQ standard*
METADATA_DATE 2000 12 07 date created or changed, yyyy mm dd*
DATA_FILE_SIZE 45947430 data set size in bytes*
BYTE_COUNT 6018 header byte count* * * * * * * * * * * * * * * * * * * * * * * * * * * * * * * * *
END_USGS_HEADER *
