BEGIN_USGS_DOQ_HEADER *
QUADRANGLE_NAME "HORSE PEAK" 3.45 or 7.5-min. name*
QUADRANT NW quadrant indicator if cell size = 3.75-minutes*
WEST_LONGITUDE -121 52 30.000 signed deg min sec SDDD MM SS.SSS*
EAST_LONGITUDE -121 48 45.000 signed deg min sec SDDD MM SS.SSS*
NORTH_LATITUDE 41 30 0.000 signed deg min sec SDDD MM SS.SSS*
SOUTH_LATITUDE 41 26 15.000 signed deg min sec SDDD MM SS.SSS*
PRODUCTION_DATE 2000 12 4 yyyy mm dd*
RASTER_ORDER LEFT_RIGHT/TOP_BOTTOM video display order*
BAND_ORGANIZATION "SINGLE FILE" single file or BSQ, or BIL or BIP*
BAND_CONTENT BLACK&WHITE black&white or red green blue*
BITS_PER_PIXEL 8 radiometric resolution*
SAMPLES_AND_LINES 6008 7626 number of columns and rows*
HORIZONTAL_DATUM NAD83 primary horizontal datum*
HORIZONTAL_COORDINATE_SYSTEM UTM *
COORDINATE_ZONE 10 coordinate system zone number*
HORIZONTAL_UNITS METERS coordinate system units*
HORIZONTAL_RESOLUTION 1.00 pixel horiz. ground sample distance*
SECONDARY_HORIZONTAL_DATUM NAD27 secondary horizontal datum*
XY_ORIGIN 593502.000 4595245.000 coord. of upper left pixel pri. datum*
SECONDARY_XY_ORIGIN 593597.320 4595047.018 coord upper left pixel sec datum*
NATION US nation code*
STATE CA state fip code*
NW_QUAD_CORNER_XY 593896.364 4594875.084 XY coords. of pri. NW quad corner*
NE_QUAD_CORNER_XY 599112.919 4594944.849 XY coords. of pri. NE quad corner*
SE_QUAD_CORNER_XY 599208.167 4588006.003 XY coords. of pri. SE quad corner*
SW_QUAD_CORNER_XY 593986.598 4587936.257 XY coords. of pri. SW quad corner*
SECONDARY_NW_QUAD_XY 593898.922 4594662.350 XY coords. - sec. NW quad cor.*
SECONDARY_NE_QUAD_XY 599115.619 4594732.117 XY coords. - sec. NE quad cor.*
SECONDARY_SE_QUAD_XY 599210.866 4587793.374 XY coords. - sec. SE quad cor.*
SECONDARY_SW_QUAD_XY 593989.154 4587723.627 XY coords. - sec. SW quad cor.*
RMSE_XY 2.20 doq horiz. accuracy*
IMAGE_SOURCE "BLACK AND WHITE FILM" b&w, cir, natural color, other*
SOURCE_IMAGE_ID "NAPP 10501 179" source image id*
SOURCE_IMAGE_DATE 1998 08 13 source image date as yyyy mm dd*
SOURCE_DEM_DATE 1960 00 00 source dem date yyyy mm dd*
AGENCY "WESTERN MAPPING CENTER (WMC)" oversight agency*
PRODUCER "SCIENCE APPLICATIONS INTERNATIONAL" producer/contractor*
PRODUCTION_SYSTEM "GIS/MAGIC" production system*
STANDARD_VERSION 1996 12 version of DOQ standard*
METADATA_DATE 2000 12 07 date created or changed, yyyy mm dd*
DATA_FILE_SIZE 45823016 data set size in bytes*
BYTE_COUNT 6008 header byte count* * * * * * * * * * * * * * * * * * * * * * * * * * * * * * * * *
END_USGS_HEADER *
