BEGIN_USGS_DOQ_HEADER *
QUADRANGLE_NAME "HORSE PEAK" 3.45 or 7.5-min. name*
QUADRANT SE quadrant indicator if cell size = 3.75-minutes*
WEST_LONGITUDE -121 48 45.000 signed deg min sec SDDD MM SS.SSS*
EAST_LONGITUDE -121 45 0.000 signed deg min sec SDDD MM SS.SSS*
NORTH_LATITUDE 41 26 15.000 signed deg min sec SDDD MM SS.SSS*
SOUTH_LATITUDE 41 22 30.000 signed deg min sec SDDD MM SS.SSS*
PRODUCTION_DATE 2000 12 4 yyyy mm dd*
RASTER_ORDER LEFT_RIGHT/TOP_BOTTOM video display order*
BAND_ORGANIZATION "SINGLE FILE" single file or BSQ, or BIL or BIP*
BAND_CONTENT BLACK&WHITE black&white or red green blue*
BITS_PER_PIXEL 8 radiometric resolution*
SAMPLES_AND_LINES 6017 7630 number of columns and rows*
HORIZONTAL_DATUM NAD83 primary horizontal datum*
HORIZONTAL_COORDINATE_SYSTEM UTM *
COORDINATE_ZONE 10 coordinate system zone number*
HORIZONTAL_UNITS METERS coordinate system units*
HORIZONTAL_RESOLUTION 1.00 pixel horiz. ground sample distance*
SECONDARY_HORIZONTAL_DATUM NAD27 secondary horizontal datum*
XY_ORIGIN 598814.000 4588380.000 coord. of upper left pixel pri. datum*
SECONDARY_XY_ORIGIN 598909.322 4588182.016 coord upper left pixel sec datum*
NATION US nation code*
STATE CA state fip code*
NW_QUAD_CORNER_XY 599208.167 4588006.003 XY coords. of pri. NW quad corner*
NE_QUAD_CORNER_XY 604429.752 4588079.520 XY coords. of pri. NE quad corner*
SE_QUAD_CORNER_XY 604529.890 4581140.726 XY coords. of pri. SE quad corner*
SW_QUAD_CORNER_XY 599303.297 4581067.230 XY coords. of pri. SW quad corner*
SECONDARY_NW_QUAD_XY 599210.866 4587793.374 XY coords. - sec. NW quad cor.*
SECONDARY_NE_QUAD_XY 604432.592 4587866.894 XY coords. - sec. NE quad cor.*
SECONDARY_SE_QUAD_XY 604532.729 4580928.204 XY coords. - sec. SE quad cor.*
SECONDARY_SW_QUAD_XY 599305.994 4580854.705 XY coords. - sec. SW quad cor.*
RMSE_XY 1.50 doq horiz. accuracy*
IMAGE_SOURCE "BLACK AND WHITE FILM" b&w, cir, natural color, other*
SOURCE_IMAGE_ID "NAPP 10501 150" source image id*
SOURCE_IMAGE_DATE 1998 08 13 source image date as yyyy mm dd*
SOURCE_DEM_DATE 1960 00 00 source dem date yyyy mm dd*
AGENCY "WESTERN MAPPING CENTER (WMC)" oversight agency*
PRODUCER "SCIENCE APPLICATIONS INTERNATIONAL" producer/contractor*
PRODUCTION_SYSTEM "GIS/MAGIC" production system*
STANDARD_VERSION 1996 12 version of DOQ standard*
METADATA_DATE 2000 12 07 date created or changed, yyyy mm dd*
DATA_FILE_SIZE 45915727 data set size in bytes*
BYTE_COUNT 6017 header byte count* * * * * * * * * * * * * * * * * * * * * * * * * * * * * * * * *
END_USGS_HEADER *
